BEGIN:VCALENDAR
VERSION:2.0
PRODID:-//Shasta Scout - ECPv6.15.12.2//NONSGML v1.0//EN
CALSCALE:GREGORIAN
METHOD:PUBLISH
X-WR-CALNAME:Shasta Scout
X-ORIGINAL-URL:https://shastascout.org
X-WR-CALDESC:Events for Shasta Scout
REFRESH-INTERVAL;VALUE=DURATION:PT1H
X-Robots-Tag:noindex
X-PUBLISHED-TTL:PT1H
BEGIN:VTIMEZONE
TZID:America/Los_Angeles
BEGIN:DAYLIGHT
TZOFFSETFROM:-0800
TZOFFSETTO:-0700
TZNAME:PDT
DTSTART:20240310T100000
END:DAYLIGHT
BEGIN:STANDARD
TZOFFSETFROM:-0700
TZOFFSETTO:-0800
TZNAME:PST
DTSTART:20241103T090000
END:STANDARD
BEGIN:DAYLIGHT
TZOFFSETFROM:-0800
TZOFFSETTO:-0700
TZNAME:PDT
DTSTART:20250309T100000
END:DAYLIGHT
BEGIN:STANDARD
TZOFFSETFROM:-0700
TZOFFSETTO:-0800
TZNAME:PST
DTSTART:20251102T090000
END:STANDARD
BEGIN:DAYLIGHT
TZOFFSETFROM:-0800
TZOFFSETTO:-0700
TZNAME:PDT
DTSTART:20260308T100000
END:DAYLIGHT
BEGIN:STANDARD
TZOFFSETFROM:-0700
TZOFFSETTO:-0800
TZNAME:PST
DTSTART:20261101T090000
END:STANDARD
BEGIN:DAYLIGHT
TZOFFSETFROM:-0800
TZOFFSETTO:-0700
TZNAME:PDT
DTSTART:20270314T100000
END:DAYLIGHT
BEGIN:STANDARD
TZOFFSETFROM:-0700
TZOFFSETTO:-0800
TZNAME:PST
DTSTART:20271107T090000
END:STANDARD
END:VTIMEZONE
BEGIN:VEVENT
DTSTART;TZID=America/Los_Angeles:20260110T073000
DTEND;TZID=America/Los_Angeles:20260110T120000
DTSTAMP:20260422T152914
CREATED:20250821T031853Z
LAST-MODIFIED:20250821T031853Z
UID:10002204-1768030200-1768046400@shastascout.org
SUMMARY:Redding Certified Farmer's Market
DESCRIPTION:
URL:https://shastascout.org/event/redding-certified-farmers-market/2026-01-10/
LOCATION:Redding City Hall\, 777 Cypress Street\, Redding
END:VEVENT
BEGIN:VEVENT
DTSTART;TZID=America/Los_Angeles:20260107T173000
DTEND;TZID=America/Los_Angeles:20260107T190000
DTSTAMP:20260422T152914
CREATED:20250707T173953Z
LAST-MODIFIED:20250707T173953Z
UID:10001935-1767807000-1767812400@shastascout.org
SUMMARY:NorCal OUTReach Youth Group
DESCRIPTION:
URL:https://shastascout.org/event/norcal-outreach-youth-group/2026-01-07/
LOCATION:NorCal OUTReach\, 1447 Market Street Suite A\, Redding\, CA
END:VEVENT
BEGIN:VEVENT
DTSTART;TZID=America/Los_Angeles:20260105T130000
DTEND;TZID=America/Los_Angeles:20260105T143000
DTSTAMP:20260422T152914
CREATED:20250123T221146Z
LAST-MODIFIED:20250123T221146Z
UID:10000971-1767618000-1767623400@shastascout.org
SUMMARY:Conversations of Hope
DESCRIPTION:Shasta County Health and Human Services Agency\, in collaboration with Sunrise Mountain Wellness Center\, offers the county’s only peer-led support group for women survivors of domestic abuse and intimate-partner violence. \nNo registration required. \nFor information\, contact Michele Williams at (530) 245-6034 or email mwilliams@shastacounty.gov.
URL:https://shastascout.org/event/conversations-of-hope/2026-01-05/
LOCATION:1300 Hilltop Dr.\, Suite 200\, Redding\, 1300 Hilltop Dr. Suite 200\, Redding
END:VEVENT
BEGIN:VEVENT
DTSTART;TZID=America/Los_Angeles:20260103T080000
DTEND;TZID=America/Los_Angeles:20260103T120000
DTSTAMP:20260422T152914
CREATED:20250821T034435Z
LAST-MODIFIED:20250821T034435Z
UID:10002537-1767427200-1767441600@shastascout.org
SUMMARY:Saturday "Farmers Market" River Park
DESCRIPTION:
URL:https://shastascout.org/event/saturday-farmers-market-river-park/2026-01-03/
LOCATION:100 Main Street\, 100 Main Street\, Red Bluff\, CA
END:VEVENT
BEGIN:VEVENT
DTSTART;TZID=America/Los_Angeles:20260103T073000
DTEND;TZID=America/Los_Angeles:20260103T120000
DTSTAMP:20260422T152914
CREATED:20250821T031853Z
LAST-MODIFIED:20250821T031853Z
UID:10002203-1767425400-1767441600@shastascout.org
SUMMARY:Redding Certified Farmer's Market
DESCRIPTION:
URL:https://shastascout.org/event/redding-certified-farmers-market/2026-01-03/
LOCATION:Redding City Hall\, 777 Cypress Street\, Redding
END:VEVENT
BEGIN:VEVENT
DTSTART;TZID=America/Los_Angeles:20260102T170000
DTEND;TZID=America/Los_Angeles:20260102T200000
DTSTAMP:20260422T152914
CREATED:20241213T204344Z
LAST-MODIFIED:20241213T204344Z
UID:10000865-1767373200-1767384000@shastascout.org
SUMMARY:First Friday in Downtown
DESCRIPTION:First Friday is a chance to support local businesses and enjoy live performances in Downtown Redding!
URL:https://shastascout.org/event/first-friday-in-downtown-2/2026-01-02/
LOCATION:Downtown Redding\, 1725 Market St. Redding\, CA 96001
END:VEVENT
BEGIN:VEVENT
DTSTART;TZID=America/Los_Angeles:20251231T173000
DTEND;TZID=America/Los_Angeles:20251231T190000
DTSTAMP:20260422T152914
CREATED:20250707T173953Z
LAST-MODIFIED:20250707T173953Z
UID:10001934-1767202200-1767207600@shastascout.org
SUMMARY:NorCal OUTReach Youth Group
DESCRIPTION:
URL:https://shastascout.org/event/norcal-outreach-youth-group/2025-12-31/
LOCATION:NorCal OUTReach\, 1447 Market Street Suite A\, Redding\, CA
END:VEVENT
BEGIN:VEVENT
DTSTART;TZID=America/Los_Angeles:20251229T130000
DTEND;TZID=America/Los_Angeles:20251229T143000
DTSTAMP:20260422T152914
CREATED:20250123T221146Z
LAST-MODIFIED:20250123T221146Z
UID:10000970-1767013200-1767018600@shastascout.org
SUMMARY:Conversations of Hope
DESCRIPTION:Shasta County Health and Human Services Agency\, in collaboration with Sunrise Mountain Wellness Center\, offers the county’s only peer-led support group for women survivors of domestic abuse and intimate-partner violence. \nNo registration required. \nFor information\, contact Michele Williams at (530) 245-6034 or email mwilliams@shastacounty.gov.
URL:https://shastascout.org/event/conversations-of-hope/2025-12-29/
LOCATION:1300 Hilltop Dr.\, Suite 200\, Redding\, 1300 Hilltop Dr. Suite 200\, Redding
END:VEVENT
BEGIN:VEVENT
DTSTART;TZID=America/Los_Angeles:20251227T190000
DTEND;TZID=America/Los_Angeles:20251227T220000
DTSTAMP:20260422T152914
CREATED:20250507T003612Z
LAST-MODIFIED:20250507T003612Z
UID:10001773-1766862000-1766872800@shastascout.org
SUMMARY:Queerokee
DESCRIPTION:
URL:https://shastascout.org/event/queerokee/2025-12-27/
LOCATION:2042 Market Street\, Redding\, CA\, 2042 Market Street\, Redding\, CA
END:VEVENT
BEGIN:VEVENT
DTSTART;TZID=America/Los_Angeles:20251227T080000
DTEND;TZID=America/Los_Angeles:20251227T120000
DTSTAMP:20260422T152914
CREATED:20250821T034435Z
LAST-MODIFIED:20250821T034435Z
UID:10002536-1766822400-1766836800@shastascout.org
SUMMARY:Saturday "Farmers Market" River Park
DESCRIPTION:
URL:https://shastascout.org/event/saturday-farmers-market-river-park/2025-12-27/
LOCATION:100 Main Street\, 100 Main Street\, Red Bluff\, CA
END:VEVENT
BEGIN:VEVENT
DTSTART;TZID=America/Los_Angeles:20251227T073000
DTEND;TZID=America/Los_Angeles:20251227T120000
DTSTAMP:20260422T152914
CREATED:20250821T031853Z
LAST-MODIFIED:20250821T031853Z
UID:10002202-1766820600-1766836800@shastascout.org
SUMMARY:Redding Certified Farmer's Market
DESCRIPTION:
URL:https://shastascout.org/event/redding-certified-farmers-market/2025-12-27/
LOCATION:Redding City Hall\, 777 Cypress Street\, Redding
END:VEVENT
BEGIN:VEVENT
DTSTART;TZID=America/Los_Angeles:20251224T173000
DTEND;TZID=America/Los_Angeles:20251224T190000
DTSTAMP:20260422T152914
CREATED:20250707T173953Z
LAST-MODIFIED:20250707T173953Z
UID:10001933-1766597400-1766602800@shastascout.org
SUMMARY:NorCal OUTReach Youth Group
DESCRIPTION:
URL:https://shastascout.org/event/norcal-outreach-youth-group/2025-12-24/
LOCATION:NorCal OUTReach\, 1447 Market Street Suite A\, Redding\, CA
END:VEVENT
BEGIN:VEVENT
DTSTART;TZID=America/Los_Angeles:20251222T130000
DTEND;TZID=America/Los_Angeles:20251222T143000
DTSTAMP:20260422T152914
CREATED:20250123T221146Z
LAST-MODIFIED:20250123T221146Z
UID:10000969-1766408400-1766413800@shastascout.org
SUMMARY:Conversations of Hope
DESCRIPTION:Shasta County Health and Human Services Agency\, in collaboration with Sunrise Mountain Wellness Center\, offers the county’s only peer-led support group for women survivors of domestic abuse and intimate-partner violence. \nNo registration required. \nFor information\, contact Michele Williams at (530) 245-6034 or email mwilliams@shastacounty.gov.
URL:https://shastascout.org/event/conversations-of-hope/2025-12-22/
LOCATION:1300 Hilltop Dr.\, Suite 200\, Redding\, 1300 Hilltop Dr. Suite 200\, Redding
END:VEVENT
BEGIN:VEVENT
DTSTART;TZID=America/Los_Angeles:20251220T150000
DTEND;TZID=America/Los_Angeles:20251220T170000
DTSTAMP:20260422T152914
CREATED:20250328T200231Z
LAST-MODIFIED:20250328T200231Z
UID:10001698-1766242800-1766250000@shastascout.org
SUMMARY:NorCal OUTReach Project Potluck
DESCRIPTION:
URL:https://shastascout.org/event/norcal-outreach-project-potluck/2025-12-20/
LOCATION:2042 Market Street\, Redding\, CA\, 2042 Market Street\, Redding\, CA
END:VEVENT
BEGIN:VEVENT
DTSTART;TZID=America/Los_Angeles:20251220T110000
DTEND;TZID=America/Los_Angeles:20251220T150000
DTSTAMP:20260422T152914
CREATED:20251117T040813Z
LAST-MODIFIED:20251117T040813Z
UID:10002943-1766228400-1766242800@shastascout.org
SUMMARY:Riverfront Christmas Market
DESCRIPTION:
URL:https://shastascout.org/event/riverfront-christmas-market/
LOCATION:Riverfront Playhouse\, 1950 California Street\, Redding\, CA
ATTACH;FMTTYPE=image/jpeg:https://d33easn4ngmbxu.cloudfront.net/wp-content/uploads/2025/11/16200720/579198359_122194192712563823_7271134143676836659_n.jpg
END:VEVENT
BEGIN:VEVENT
DTSTART;TZID=America/Los_Angeles:20251220T080000
DTEND;TZID=America/Los_Angeles:20251220T120000
DTSTAMP:20260422T152914
CREATED:20250821T034435Z
LAST-MODIFIED:20250821T034435Z
UID:10002535-1766217600-1766232000@shastascout.org
SUMMARY:Saturday "Farmers Market" River Park
DESCRIPTION:
URL:https://shastascout.org/event/saturday-farmers-market-river-park/2025-12-20/
LOCATION:100 Main Street\, 100 Main Street\, Red Bluff\, CA
END:VEVENT
BEGIN:VEVENT
DTSTART;TZID=America/Los_Angeles:20251220T073000
DTEND;TZID=America/Los_Angeles:20251220T120000
DTSTAMP:20260422T152914
CREATED:20250821T031853Z
LAST-MODIFIED:20250821T031853Z
UID:10002201-1766215800-1766232000@shastascout.org
SUMMARY:Redding Certified Farmer's Market
DESCRIPTION:
URL:https://shastascout.org/event/redding-certified-farmers-market/2025-12-20/
LOCATION:Redding City Hall\, 777 Cypress Street\, Redding
END:VEVENT
BEGIN:VEVENT
DTSTART;TZID=America/Los_Angeles:20251219T163000
DTEND;TZID=America/Los_Angeles:20251219T203000
DTSTAMP:20260422T152914
CREATED:20251117T041918Z
LAST-MODIFIED:20251117T041918Z
UID:10002948-1766161800-1766176200@shastascout.org
SUMMARY:Holiday on the Town Victorian Light Tour
DESCRIPTION:
URL:https://shastascout.org/event/holiday-on-the-town-victorian-light-tour/
LOCATION:Downtown Red Bluff
ATTACH;FMTTYPE=image/jpeg:https://d33easn4ngmbxu.cloudfront.net/wp-content/uploads/2025/11/16201820/576818659_122216344214041538_7282678691236228375_n.jpg
END:VEVENT
BEGIN:VEVENT
DTSTART;TZID=America/Los_Angeles:20251217T173000
DTEND;TZID=America/Los_Angeles:20251217T190000
DTSTAMP:20260422T152914
CREATED:20250707T173953Z
LAST-MODIFIED:20250707T173953Z
UID:10001932-1765992600-1765998000@shastascout.org
SUMMARY:NorCal OUTReach Youth Group
DESCRIPTION:
URL:https://shastascout.org/event/norcal-outreach-youth-group/2025-12-17/
LOCATION:NorCal OUTReach\, 1447 Market Street Suite A\, Redding\, CA
END:VEVENT
BEGIN:VEVENT
DTSTART;TZID=America/Los_Angeles:20251216T183000
DTEND;TZID=America/Los_Angeles:20251216T200000
DTSTAMP:20260422T152914
CREATED:20250821T032904Z
LAST-MODIFIED:20250821T032904Z
UID:10002451-1765909800-1765915200@shastascout.org
SUMMARY:NorCal OUTReach Young Adults Youth Group
DESCRIPTION:Youth group for 18-26 year olds.
URL:https://shastascout.org/event/norcal-outreach-young-adults-youth-group/2025-12-16/
LOCATION:NorCal OUTReach\, 1447 Market Street Suite A\, Redding\, CA
END:VEVENT
BEGIN:VEVENT
DTSTART;TZID=America/Los_Angeles:20251215T173000
DTEND;TZID=America/Los_Angeles:20251215T190000
DTSTAMP:20260422T152914
CREATED:20250507T003724Z
LAST-MODIFIED:20250507T003724Z
UID:10001833-1765819800-1765825200@shastascout.org
SUMMARY:Ally Group
DESCRIPTION:
URL:https://shastascout.org/event/ally-group/2025-12-15/
LOCATION:2042 Market Street\, Redding\, CA\, 2042 Market Street\, Redding\, CA
END:VEVENT
BEGIN:VEVENT
DTSTART;TZID=America/Los_Angeles:20251215T130000
DTEND;TZID=America/Los_Angeles:20251215T143000
DTSTAMP:20260422T152914
CREATED:20250123T221146Z
LAST-MODIFIED:20250123T221146Z
UID:10000968-1765803600-1765809000@shastascout.org
SUMMARY:Conversations of Hope
DESCRIPTION:Shasta County Health and Human Services Agency\, in collaboration with Sunrise Mountain Wellness Center\, offers the county’s only peer-led support group for women survivors of domestic abuse and intimate-partner violence. \nNo registration required. \nFor information\, contact Michele Williams at (530) 245-6034 or email mwilliams@shastacounty.gov.
URL:https://shastascout.org/event/conversations-of-hope/2025-12-15/
LOCATION:1300 Hilltop Dr.\, Suite 200\, Redding\, 1300 Hilltop Dr. Suite 200\, Redding
END:VEVENT
BEGIN:VEVENT
DTSTART;TZID=America/Los_Angeles:20251214T110000
DTEND;TZID=America/Los_Angeles:20251214T160000
DTSTAMP:20260422T152914
CREATED:20250905T034709Z
LAST-MODIFIED:20250905T034709Z
UID:10002790-1765710000-1765728000@shastascout.org
SUMMARY:Grange Craft Market
DESCRIPTION:
URL:https://shastascout.org/event/grange-craft-market/2025-12-14/
LOCATION:8085 Airport\, 8085 Airport Road\, Redding\, CA
END:VEVENT
BEGIN:VEVENT
DTSTART;TZID=America/Los_Angeles:20251213T170000
DTEND;TZID=America/Los_Angeles:20251213T200000
DTSTAMP:20260422T152914
CREATED:20251117T041750Z
LAST-MODIFIED:20251117T041750Z
UID:10002947-1765645200-1765656000@shastascout.org
SUMMARY:Park and Pour Night Market
DESCRIPTION:
URL:https://shastascout.org/event/park-and-pour-night-market/
LOCATION:Palo Cedro Park\, 9373-9435 Cedro Rd\, Palo Cedro\, CA 96073
ATTACH;FMTTYPE=image/jpeg:https://d33easn4ngmbxu.cloudfront.net/wp-content/uploads/2025/11/16201648/577583854_122193759884563823_5132505718126260589_n.jpg
END:VEVENT
BEGIN:VEVENT
DTSTART;TZID=America/Los_Angeles:20251213T140000
DTEND;TZID=America/Los_Angeles:20251213T150000
DTSTAMP:20260422T152914
CREATED:20241213T204137Z
LAST-MODIFIED:20241213T204137Z
UID:10000803-1765634400-1765638000@shastascout.org
SUMMARY:Family Story Time
DESCRIPTION:
URL:https://shastascout.org/event/family-story-time/2025-12-13/
LOCATION:Redding Library\, 1100 Parkview Ave\, Redding\, CA 96001
END:VEVENT
BEGIN:VEVENT
DTSTART;TZID=America/Los_Angeles:20251213T110000
DTEND;TZID=America/Los_Angeles:20251213T150000
DTSTAMP:20260422T152914
CREATED:20251117T042143Z
LAST-MODIFIED:20251117T042143Z
UID:10002949-1765623600-1765638000@shastascout.org
SUMMARY:Holidays on the Homestead
DESCRIPTION:
URL:https://shastascout.org/event/holidays-on-the-homestead-2/
LOCATION:William B Ide Adobe State Historic Park\, 21659 Adobe Road\, Red Bluff\, CA
ATTACH;FMTTYPE=image/jpeg:https://d33easn4ngmbxu.cloudfront.net/wp-content/uploads/2025/11/16202008/577170757_1144341234574595_3868837496960387766_n.jpg
END:VEVENT
BEGIN:VEVENT
DTSTART;TZID=America/Los_Angeles:20251213T110000
DTEND;TZID=America/Los_Angeles:20251213T140000
DTSTAMP:20260422T152914
CREATED:20251210T003329Z
LAST-MODIFIED:20251210T003329Z
UID:10002963-1765623600-1765634400@shastascout.org
SUMMARY:Photos with Santa Paws
DESCRIPTION:
URL:https://shastascout.org/event/photos-with-santa-paws-2/
LOCATION:Treats Market\, 1726 Churn Creek Road\, Redding\, CA\, 96002
ATTACH;FMTTYPE=image/jpeg:https://d33easn4ngmbxu.cloudfront.net/wp-content/uploads/2025/12/09163311/590418419_831847243176659_2498804470366100503_n.jpg
END:VEVENT
BEGIN:VEVENT
DTSTART;TZID=America/Los_Angeles:20251213T080000
DTEND;TZID=America/Los_Angeles:20251213T120000
DTSTAMP:20260422T152914
CREATED:20250821T034435Z
LAST-MODIFIED:20250821T034435Z
UID:10002534-1765612800-1765627200@shastascout.org
SUMMARY:Saturday "Farmers Market" River Park
DESCRIPTION:
URL:https://shastascout.org/event/saturday-farmers-market-river-park/2025-12-13/
LOCATION:100 Main Street\, 100 Main Street\, Red Bluff\, CA
END:VEVENT
BEGIN:VEVENT
DTSTART;TZID=America/Los_Angeles:20251213T073000
DTEND;TZID=America/Los_Angeles:20251213T120000
DTSTAMP:20260422T152914
CREATED:20250821T031853Z
LAST-MODIFIED:20250821T031853Z
UID:10002200-1765611000-1765627200@shastascout.org
SUMMARY:Redding Certified Farmer's Market
DESCRIPTION:
URL:https://shastascout.org/event/redding-certified-farmers-market/2025-12-13/
LOCATION:Redding City Hall\, 777 Cypress Street\, Redding
END:VEVENT
BEGIN:VEVENT
DTSTART;TZID=America/Los_Angeles:20251210T180000
DTEND;TZID=America/Los_Angeles:20251210T190000
DTSTAMP:20260422T152914
CREATED:20251117T041030Z
LAST-MODIFIED:20251117T041030Z
UID:10002944-1765389600-1765393200@shastascout.org
SUMMARY:Shasta Birding Society 50th Anniversary Open House
DESCRIPTION:
URL:https://shastascout.org/event/shasta-birding-society-50th-anniversary-open-house/
LOCATION:Turtle Bay\, 844 Sundial Bridge Drive Redding\, CA 96001 United States
ATTACH;FMTTYPE=image/jpeg:https://d33easn4ngmbxu.cloudfront.net/wp-content/uploads/2025/11/16200908/583022118_1292461919586920_6124853103162136646_n.png.jpeg
END:VEVENT
END:VCALENDAR