BEGIN:VCALENDAR
VERSION:2.0
PRODID:-//Shasta Scout - ECPv6.15.12.2//NONSGML v1.0//EN
CALSCALE:GREGORIAN
METHOD:PUBLISH
X-WR-CALNAME:Shasta Scout
X-ORIGINAL-URL:https://shastascout.org
X-WR-CALDESC:Events for Shasta Scout
REFRESH-INTERVAL;VALUE=DURATION:PT1H
X-Robots-Tag:noindex
X-PUBLISHED-TTL:PT1H
BEGIN:VTIMEZONE
TZID:America/Los_Angeles
BEGIN:DAYLIGHT
TZOFFSETFROM:-0800
TZOFFSETTO:-0700
TZNAME:PDT
DTSTART:20250309T100000
END:DAYLIGHT
BEGIN:STANDARD
TZOFFSETFROM:-0700
TZOFFSETTO:-0800
TZNAME:PST
DTSTART:20251102T090000
END:STANDARD
BEGIN:DAYLIGHT
TZOFFSETFROM:-0800
TZOFFSETTO:-0700
TZNAME:PDT
DTSTART:20260308T100000
END:DAYLIGHT
BEGIN:STANDARD
TZOFFSETFROM:-0700
TZOFFSETTO:-0800
TZNAME:PST
DTSTART:20261101T090000
END:STANDARD
BEGIN:DAYLIGHT
TZOFFSETFROM:-0800
TZOFFSETTO:-0700
TZNAME:PDT
DTSTART:20270314T100000
END:DAYLIGHT
BEGIN:STANDARD
TZOFFSETFROM:-0700
TZOFFSETTO:-0800
TZNAME:PST
DTSTART:20271107T090000
END:STANDARD
END:VTIMEZONE
BEGIN:VEVENT
DTSTART;TZID=America/Los_Angeles:20260513T173000
DTEND;TZID=America/Los_Angeles:20260513T190000
DTSTAMP:20260423T223659
CREATED:20250707T173953Z
LAST-MODIFIED:20250707T173953Z
UID:10001953-1778693400-1778698800@shastascout.org
SUMMARY:NorCal OUTReach Youth Group
DESCRIPTION:
URL:https://shastascout.org/event/norcal-outreach-youth-group/2026-05-13/
LOCATION:NorCal OUTReach\, 1447 Market Street Suite A\, Redding\, CA
END:VEVENT
BEGIN:VEVENT
DTSTART;TZID=America/Los_Angeles:20260513T190000
DTEND;TZID=America/Los_Angeles:20260513T200000
DTSTAMP:20260423T223659
CREATED:20260327T034015Z
LAST-MODIFIED:20260327T034015Z
UID:10003009-1778698800-1778702400@shastascout.org
SUMMARY:Redding Rodeo Native American Appreciation Night
DESCRIPTION:The Redding Rodeo returns May 13th — and you won’t want to miss opening night\, Buckin’ by the River.\nJoin us for Native American Appreciation Night\, presented by Redding Rancheria\, as we honor the rich traditions and culture of Native American heritage. This special evening features all the high-energy rodeo action you love\, along with a powerful tribute performance showcasing a traditional Native American dance.\nBe there as we kick off four unforgettable nights of rodeo in Redding. Bring your friends\, bring your family\, and be part of a night that celebrates tradition\, community\, and world-class rodeo.\nGates open at 5 PM. Rodeo begins at 7 PM.\nSecure your seats today at www.reddingrodeo.com and be there when it all begins.
URL:https://shastascout.org/event/redding-rodeo-native-american-appreciation-night/
LOCATION:Redding Rodeo Grounds\, 715 Auditorium Dr\, Redding\, CA
ATTACH;FMTTYPE=image/jpeg:https://d33easn4ngmbxu.cloudfront.net/wp-content/uploads/2026/03/26203901/651278692_1616701903788594_5317485142911152263_n.jpg
END:VEVENT
BEGIN:VEVENT
DTSTART;TZID=America/Los_Angeles:20260514T190000
DTEND;TZID=America/Los_Angeles:20260514T200000
DTSTAMP:20260423T223659
CREATED:20260327T033649Z
LAST-MODIFIED:20260327T033649Z
UID:10003007-1778785200-1778788800@shastascout.org
SUMMARY:Family Night at the Redding Rodeo
DESCRIPTION:Round up the whole crew for Family Night at the Redding Rodeo — Buckin’ by the River\, happening Thursday\, May 14th\, proudly brought to you by SnL Group Inc.\nIt’s the perfect night for all ages to experience the excitement of rodeo\, with a fun\, family-friendly atmosphere and all the high-energy action you love—from bull riding to barrel racing and more.\nMake it a night to remember with your friends and family as we celebrate tradition\, community\, and world-class rodeo right here in Redding.\nGates open at 5 PM. Rodeo begins at 7 PM.\n Get your tickets now at www.reddingrodeo.com— the only official place to buy. Don’t risk third-party scams—secure your seats the right way.
URL:https://shastascout.org/event/family-night-at-the-redding-rodeo/
LOCATION:Redding Rodeo Grounds\, 715 Auditorium Dr\, Redding\, CA
ATTACH;FMTTYPE=image/jpeg:https://d33easn4ngmbxu.cloudfront.net/wp-content/uploads/2026/03/26203613/654813626_1618422103616574_9113657939303719902_n.jpg
END:VEVENT
BEGIN:VEVENT
DTSTART;TZID=America/Los_Angeles:20260514T200000
DTEND;TZID=America/Los_Angeles:20260514T210000
DTSTAMP:20260423T223659
CREATED:20260422T185933Z
LAST-MODIFIED:20260422T185933Z
UID:10003029-1778788800-1778792400@shastascout.org
SUMMARY:Peace Lantern Processional
DESCRIPTION:You can witness the Peace Lantern Processional cross the Sundial Bridge at 8 pm from the south end to the north side. The processional will enter the Glowing Wild Lantern Festival for about 30 minutes then will cross back across the Sundial Bridge. To enter the Glowing Wild Lantern Festival requires purchasing rickets from Turtle Bay Exploration Park.
URL:https://shastascout.org/event/peace-lantern-processional/
LOCATION:Sundial Bridge\, Redding\, CA
ATTACH;FMTTYPE=image/jpeg:https://d33easn4ngmbxu.cloudfront.net/wp-content/uploads/2026/04/22115818/672476375_1018651310512262_2998053860486038672_n.jpg
END:VEVENT
BEGIN:VEVENT
DTSTART;TZID=America/Los_Angeles:20260515T190000
DTEND;TZID=America/Los_Angeles:20260515T200000
DTSTAMP:20260423T223659
CREATED:20260327T034616Z
LAST-MODIFIED:20260327T034616Z
UID:10003012-1778871600-1778875200@shastascout.org
SUMMARY:Bucking Cancer Night at the Redding Rodeo
DESCRIPTION:Friday\, May 15th | Bucking Cancer NightSponsored by Blach Beverage & Pendleton Whisky\nJoin us for Bucking Cancer Night at the Redding Rodeo — Buckin’ by the River.\nFriday night under the lights brings an electric atmosphere as we come together to support a powerful cause. It’s our Pink Night\, so grab your favorite pink gear and help us fill the stands with strength\, support\, and rodeo spirit.\nExperience all the heart-pounding action you love—from bull riding to barrel racing—set against the energy of a Friday night crowd.\nAnd when the rodeo ends\, the party is just getting started…\n Head over to the Cantina Party immediately following the rodeo\, featuring DJ Fast Guns Fontana\, spinning all night long until midnight.\nMake it a night to remember with friends\, community\, and world-class rodeo entertainment.\nGates open at 5 PM. Rodeo begins at 7 PM.\n Get your tickets now at www.reddingrodeo.com— the only official place to buy. Don’t fall for third-party scams—lock in your seats the right way.
URL:https://shastascout.org/event/bucking-cancer-night-at-the-redding-rodeo/
LOCATION:Redding Rodeo Grounds\, 715 Auditorium Dr\, Redding\, CA
ATTACH;FMTTYPE=image/jpeg:https://d33easn4ngmbxu.cloudfront.net/wp-content/uploads/2026/03/26204517/655948875_1624155013043283_8992734673402010774_n.jpg
END:VEVENT
BEGIN:VEVENT
DTSTART;TZID=America/Los_Angeles:20260516T073000
DTEND;TZID=America/Los_Angeles:20260516T120000
DTSTAMP:20260423T223659
CREATED:20250821T031853Z
LAST-MODIFIED:20250821T031853Z
UID:10002222-1778916600-1778932800@shastascout.org
SUMMARY:Redding Certified Farmer's Market
DESCRIPTION:
URL:https://shastascout.org/event/redding-certified-farmers-market/2026-05-16/
LOCATION:Redding City Hall\, 777 Cypress Street\, Redding
END:VEVENT
BEGIN:VEVENT
DTSTART;TZID=America/Los_Angeles:20260516T080000
DTEND;TZID=America/Los_Angeles:20260516T120000
DTSTAMP:20260423T223659
CREATED:20250821T034435Z
LAST-MODIFIED:20250821T034435Z
UID:10002556-1778918400-1778932800@shastascout.org
SUMMARY:Saturday "Farmers Market" River Park
DESCRIPTION:
URL:https://shastascout.org/event/saturday-farmers-market-river-park/2026-05-16/
LOCATION:100 Main Street\, 100 Main Street\, Red Bluff\, CA
END:VEVENT
BEGIN:VEVENT
DTSTART;TZID=America/Los_Angeles:20260516T100000
DTEND;TZID=America/Los_Angeles:20260516T120000
DTSTAMP:20260423T223659
CREATED:20260327T034910Z
LAST-MODIFIED:20260327T034910Z
UID:10003014-1778925600-1778932800@shastascout.org
SUMMARY:Butterfly Walk
DESCRIPTION:Hobbyist lepidopterist Jasmine has an affinity for all things butterflies. She will guide us on a walk to discover species of butterflies at the Preserve. She worked within Turtle Bay’s seasonal butterfly exhibitfor two summers\, where her knowledge of butterflies grew. Artwork by JasmineShe will be Graduating this May with an associate in Natural Sciences then going to Humboldt to get a bachelors in Forest Restoration. We have Close focusing binoculars for sharing the experience.
URL:https://shastascout.org/event/butterfly-walk/
LOCATION:Horsetown-Clear Creek Preserve
ATTACH;FMTTYPE=image/jpeg:https://d33easn4ngmbxu.cloudfront.net/wp-content/uploads/2026/03/26204817/651153218_1332858912206014_8850317425002829909_n.jpg
END:VEVENT
BEGIN:VEVENT
DTSTART;TZID=America/Los_Angeles:20260516T150000
DTEND;TZID=America/Los_Angeles:20260516T170000
DTSTAMP:20260423T223659
CREATED:20250328T200231Z
LAST-MODIFIED:20250328T200231Z
UID:10001703-1778943600-1778950800@shastascout.org
SUMMARY:NorCal OUTReach Project Potluck
DESCRIPTION:
URL:https://shastascout.org/event/norcal-outreach-project-potluck/2026-05-16/
LOCATION:2042 Market Street\, Redding\, CA\, 2042 Market Street\, Redding\, CA
END:VEVENT
BEGIN:VEVENT
DTSTART;TZID=America/Los_Angeles:20260518T130000
DTEND;TZID=America/Los_Angeles:20260518T143000
DTSTAMP:20260423T223659
CREATED:20250123T221146Z
LAST-MODIFIED:20250123T221146Z
UID:10000990-1779109200-1779114600@shastascout.org
SUMMARY:Conversations of Hope
DESCRIPTION:Shasta County Health and Human Services Agency\, in collaboration with Sunrise Mountain Wellness Center\, offers the county’s only peer-led support group for women survivors of domestic abuse and intimate-partner violence. \nNo registration required. \nFor information\, contact Michele Williams at (530) 245-6034 or email mwilliams@shastacounty.gov.
URL:https://shastascout.org/event/conversations-of-hope/2026-05-18/
LOCATION:1300 Hilltop Dr.\, Suite 200\, Redding\, 1300 Hilltop Dr. Suite 200\, Redding
END:VEVENT
BEGIN:VEVENT
DTSTART;TZID=America/Los_Angeles:20260518T173000
DTEND;TZID=America/Los_Angeles:20260518T190000
DTSTAMP:20260423T223659
CREATED:20250507T003724Z
LAST-MODIFIED:20250507T003724Z
UID:10001838-1779125400-1779130800@shastascout.org
SUMMARY:Ally Group
DESCRIPTION:
URL:https://shastascout.org/event/ally-group/2026-05-18/
LOCATION:2042 Market Street\, Redding\, CA\, 2042 Market Street\, Redding\, CA
END:VEVENT
BEGIN:VEVENT
DTSTART;TZID=America/Los_Angeles:20260519T173000
DTEND;TZID=America/Los_Angeles:20260519T193000
DTSTAMP:20260423T223659
CREATED:20260110T023407Z
LAST-MODIFIED:20260121T170259Z
UID:10002973-1779211800-1779219000@shastascout.org
SUMMARY:NAMI Shasta County's Family Support Group
DESCRIPTION:A peer–led\, 90 minute confidential support group for family and friends of people with mental health conditions that meets at 5:30pm the first and third Tuesday of every month. NAMI’s support groups are unique because they follow a structured model\, ensuring everyone has an opportunity to be heard. By sharing your experiences in a safe setting\, you can gain hope and develop supportive relationships.
URL:https://shastascout.org/event/nami-shasta-countys-january-family-support-group/2026-05-19/
LOCATION:NAMI Shasta County Office\, 3609 Bechelli Lane Suite I\, Redding\, CA
ATTACH;FMTTYPE=image/png:https://d33easn4ngmbxu.cloudfront.net/wp-content/uploads/2026/01/02143958/namishasta-logo-blue.png
END:VEVENT
BEGIN:VEVENT
DTSTART;TZID=America/Los_Angeles:20260519T183000
DTEND;TZID=America/Los_Angeles:20260519T200000
DTSTAMP:20260423T223659
CREATED:20250821T032904Z
LAST-MODIFIED:20250821T032904Z
UID:10002456-1779215400-1779220800@shastascout.org
SUMMARY:NorCal OUTReach Young Adults Youth Group
DESCRIPTION:Youth group for 18-26 year olds.
URL:https://shastascout.org/event/norcal-outreach-young-adults-youth-group/2026-05-19/
LOCATION:NorCal OUTReach\, 1447 Market Street Suite A\, Redding\, CA
END:VEVENT
BEGIN:VEVENT
DTSTART;TZID=America/Los_Angeles:20260520T113000
DTEND;TZID=America/Los_Angeles:20260520T130000
DTSTAMP:20260423T223659
CREATED:20260327T034500Z
LAST-MODIFIED:20260327T034500Z
UID:10003011-1779276600-1779282000@shastascout.org
SUMMARY:Redding Rancheria's State of the Tribe
DESCRIPTION:Wednesday\, May 20\, 202611:30 am – 1:00 pmWin-River Resort & Casino Event Center\nPlease contact Maria Orozco at530-242-4516 or atmaria.orozco@reddingrancheria-nsn.govto purchase ticketsTable of 8 – $345Individual tickets – $50\nYou can pay by credit card by going to www.reddingrancheria-nsn.gov and under public relations is a donate here button that will secure your table. In the comment section write: State of the Tribe. Please contact Maria Orozco to make sure your table is secure.\nThis event is intended to educate the community about our Tribe.We would love if you would join us.Seating is limited\, so it is first come\, first serve.All proceeds benefit the Redding Rancheria Community Fund.
URL:https://shastascout.org/event/redding-rancherias-state-of-the-tribe/
LOCATION:Win River Resort and Casino Event Center
ATTACH;FMTTYPE=image/jpeg:https://d33easn4ngmbxu.cloudfront.net/wp-content/uploads/2026/03/26204342/614956707_1305429021626750_1977147868906291846_n.jpg
END:VEVENT
BEGIN:VEVENT
DTSTART;TZID=America/Los_Angeles:20260520T173000
DTEND;TZID=America/Los_Angeles:20260520T190000
DTSTAMP:20260423T223659
CREATED:20250707T173953Z
LAST-MODIFIED:20250707T173953Z
UID:10001954-1779298200-1779303600@shastascout.org
SUMMARY:NorCal OUTReach Youth Group
DESCRIPTION:
URL:https://shastascout.org/event/norcal-outreach-youth-group/2026-05-20/
LOCATION:NorCal OUTReach\, 1447 Market Street Suite A\, Redding\, CA
END:VEVENT
BEGIN:VEVENT
DTSTART;TZID=America/Los_Angeles:20260523T073000
DTEND;TZID=America/Los_Angeles:20260523T120000
DTSTAMP:20260423T223659
CREATED:20250821T031853Z
LAST-MODIFIED:20250821T031853Z
UID:10002223-1779521400-1779537600@shastascout.org
SUMMARY:Redding Certified Farmer's Market
DESCRIPTION:
URL:https://shastascout.org/event/redding-certified-farmers-market/2026-05-23/
LOCATION:Redding City Hall\, 777 Cypress Street\, Redding
END:VEVENT
BEGIN:VEVENT
DTSTART;TZID=America/Los_Angeles:20260523T080000
DTEND;TZID=America/Los_Angeles:20260523T120000
DTSTAMP:20260423T223659
CREATED:20250821T034435Z
LAST-MODIFIED:20250821T034435Z
UID:10002557-1779523200-1779537600@shastascout.org
SUMMARY:Saturday "Farmers Market" River Park
DESCRIPTION:
URL:https://shastascout.org/event/saturday-farmers-market-river-park/2026-05-23/
LOCATION:100 Main Street\, 100 Main Street\, Red Bluff\, CA
END:VEVENT
BEGIN:VEVENT
DTSTART;TZID=America/Los_Angeles:20260523T190000
DTEND;TZID=America/Los_Angeles:20260523T220000
DTSTAMP:20260423T223659
CREATED:20250507T003612Z
LAST-MODIFIED:20250507T003612Z
UID:10001778-1779562800-1779573600@shastascout.org
SUMMARY:Queerokee
DESCRIPTION:
URL:https://shastascout.org/event/queerokee/2026-05-23/
LOCATION:2042 Market Street\, Redding\, CA\, 2042 Market Street\, Redding\, CA
END:VEVENT
BEGIN:VEVENT
DTSTART;TZID=America/Los_Angeles:20260525T130000
DTEND;TZID=America/Los_Angeles:20260525T143000
DTSTAMP:20260423T223659
CREATED:20250123T221146Z
LAST-MODIFIED:20250123T221146Z
UID:10000991-1779714000-1779719400@shastascout.org
SUMMARY:Conversations of Hope
DESCRIPTION:Shasta County Health and Human Services Agency\, in collaboration with Sunrise Mountain Wellness Center\, offers the county’s only peer-led support group for women survivors of domestic abuse and intimate-partner violence. \nNo registration required. \nFor information\, contact Michele Williams at (530) 245-6034 or email mwilliams@shastacounty.gov.
URL:https://shastascout.org/event/conversations-of-hope/2026-05-25/
LOCATION:1300 Hilltop Dr.\, Suite 200\, Redding\, 1300 Hilltop Dr. Suite 200\, Redding
END:VEVENT
BEGIN:VEVENT
DTSTART;TZID=America/Los_Angeles:20260527T173000
DTEND;TZID=America/Los_Angeles:20260527T190000
DTSTAMP:20260423T223659
CREATED:20250707T173953Z
LAST-MODIFIED:20250707T173953Z
UID:10001955-1779903000-1779908400@shastascout.org
SUMMARY:NorCal OUTReach Youth Group
DESCRIPTION:
URL:https://shastascout.org/event/norcal-outreach-youth-group/2026-05-27/
LOCATION:NorCal OUTReach\, 1447 Market Street Suite A\, Redding\, CA
END:VEVENT
BEGIN:VEVENT
DTSTART;TZID=America/Los_Angeles:20260530T073000
DTEND;TZID=America/Los_Angeles:20260530T120000
DTSTAMP:20260423T223700
CREATED:20250821T031853Z
LAST-MODIFIED:20250821T031853Z
UID:10002224-1780126200-1780142400@shastascout.org
SUMMARY:Redding Certified Farmer's Market
DESCRIPTION:
URL:https://shastascout.org/event/redding-certified-farmers-market/2026-05-30/
LOCATION:Redding City Hall\, 777 Cypress Street\, Redding
END:VEVENT
BEGIN:VEVENT
DTSTART;TZID=America/Los_Angeles:20260530T080000
DTEND;TZID=America/Los_Angeles:20260530T120000
DTSTAMP:20260423T223700
CREATED:20250821T034435Z
LAST-MODIFIED:20250821T034435Z
UID:10002558-1780128000-1780142400@shastascout.org
SUMMARY:Saturday "Farmers Market" River Park
DESCRIPTION:
URL:https://shastascout.org/event/saturday-farmers-market-river-park/2026-05-30/
LOCATION:100 Main Street\, 100 Main Street\, Red Bluff\, CA
END:VEVENT
BEGIN:VEVENT
DTSTART;TZID=America/Los_Angeles:20260601T130000
DTEND;TZID=America/Los_Angeles:20260601T143000
DTSTAMP:20260423T223700
CREATED:20250123T221146Z
LAST-MODIFIED:20250123T221146Z
UID:10000992-1780318800-1780324200@shastascout.org
SUMMARY:Conversations of Hope
DESCRIPTION:Shasta County Health and Human Services Agency\, in collaboration with Sunrise Mountain Wellness Center\, offers the county’s only peer-led support group for women survivors of domestic abuse and intimate-partner violence. \nNo registration required. \nFor information\, contact Michele Williams at (530) 245-6034 or email mwilliams@shastacounty.gov.
URL:https://shastascout.org/event/conversations-of-hope/2026-06-01/
LOCATION:1300 Hilltop Dr.\, Suite 200\, Redding\, 1300 Hilltop Dr. Suite 200\, Redding
END:VEVENT
BEGIN:VEVENT
DTSTART;TZID=America/Los_Angeles:20260602T173000
DTEND;TZID=America/Los_Angeles:20260602T193000
DTSTAMP:20260423T223700
CREATED:20260110T023407Z
LAST-MODIFIED:20260121T170259Z
UID:10002974-1780421400-1780428600@shastascout.org
SUMMARY:NAMI Shasta County's Family Support Group
DESCRIPTION:A peer–led\, 90 minute confidential support group for family and friends of people with mental health conditions that meets at 5:30pm the first and third Tuesday of every month. NAMI’s support groups are unique because they follow a structured model\, ensuring everyone has an opportunity to be heard. By sharing your experiences in a safe setting\, you can gain hope and develop supportive relationships.
URL:https://shastascout.org/event/nami-shasta-countys-january-family-support-group/2026-06-02/
LOCATION:NAMI Shasta County Office\, 3609 Bechelli Lane Suite I\, Redding\, CA
ATTACH;FMTTYPE=image/png:https://d33easn4ngmbxu.cloudfront.net/wp-content/uploads/2026/01/02143958/namishasta-logo-blue.png
END:VEVENT
BEGIN:VEVENT
DTSTART;TZID=America/Los_Angeles:20260603T173000
DTEND;TZID=America/Los_Angeles:20260603T190000
DTSTAMP:20260423T223700
CREATED:20250707T173953Z
LAST-MODIFIED:20250707T173953Z
UID:10001956-1780507800-1780513200@shastascout.org
SUMMARY:NorCal OUTReach Youth Group
DESCRIPTION:
URL:https://shastascout.org/event/norcal-outreach-youth-group/2026-06-03/
LOCATION:NorCal OUTReach\, 1447 Market Street Suite A\, Redding\, CA
END:VEVENT
BEGIN:VEVENT
DTSTART;TZID=America/Los_Angeles:20260605T170000
DTEND;TZID=America/Los_Angeles:20260605T200000
DTSTAMP:20260423T223700
CREATED:20241213T204344Z
LAST-MODIFIED:20241213T204344Z
UID:10000870-1780678800-1780689600@shastascout.org
SUMMARY:First Friday in Downtown
DESCRIPTION:First Friday is a chance to support local businesses and enjoy live performances in Downtown Redding!
URL:https://shastascout.org/event/first-friday-in-downtown-2/2026-06-05/
LOCATION:Downtown Redding\, 1725 Market St. Redding\, CA 96001
END:VEVENT
BEGIN:VEVENT
DTSTART;TZID=America/Los_Angeles:20260606T073000
DTEND;TZID=America/Los_Angeles:20260606T120000
DTSTAMP:20260423T223700
CREATED:20250821T031853Z
LAST-MODIFIED:20250821T031853Z
UID:10002225-1780731000-1780747200@shastascout.org
SUMMARY:Redding Certified Farmer's Market
DESCRIPTION:
URL:https://shastascout.org/event/redding-certified-farmers-market/2026-06-06/
LOCATION:Redding City Hall\, 777 Cypress Street\, Redding
END:VEVENT
BEGIN:VEVENT
DTSTART;TZID=America/Los_Angeles:20260606T080000
DTEND;TZID=America/Los_Angeles:20260606T120000
DTSTAMP:20260423T223700
CREATED:20250821T034435Z
LAST-MODIFIED:20250821T034435Z
UID:10002559-1780732800-1780747200@shastascout.org
SUMMARY:Saturday "Farmers Market" River Park
DESCRIPTION:
URL:https://shastascout.org/event/saturday-farmers-market-river-park/2026-06-06/
LOCATION:100 Main Street\, 100 Main Street\, Red Bluff\, CA
END:VEVENT
BEGIN:VEVENT
DTSTART;TZID=America/Los_Angeles:20260606T110000
DTEND;TZID=America/Los_Angeles:20260606T170000
DTSTAMP:20260423T223700
CREATED:20260401T163915Z
LAST-MODIFIED:20260401T163915Z
UID:10003016-1780743600-1780765200@shastascout.org
SUMMARY:Indigenous Summer Market
DESCRIPTION:
URL:https://shastascout.org/event/indigenous-summer-market/
LOCATION:Win River Event Center\, 2100 Redding Rancheria Road\, Redding\, CA
ATTACH;FMTTYPE=image/jpeg:https://d33easn4ngmbxu.cloudfront.net/wp-content/uploads/2026/04/01093858/658978427_10239624082875320_7277640744887797451_n.jpg
END:VEVENT
BEGIN:VEVENT
DTSTART;TZID=America/Los_Angeles:20260608T130000
DTEND;TZID=America/Los_Angeles:20260608T143000
DTSTAMP:20260423T223700
CREATED:20250123T221146Z
LAST-MODIFIED:20250123T221146Z
UID:10000993-1780923600-1780929000@shastascout.org
SUMMARY:Conversations of Hope
DESCRIPTION:Shasta County Health and Human Services Agency\, in collaboration with Sunrise Mountain Wellness Center\, offers the county’s only peer-led support group for women survivors of domestic abuse and intimate-partner violence. \nNo registration required. \nFor information\, contact Michele Williams at (530) 245-6034 or email mwilliams@shastacounty.gov.
URL:https://shastascout.org/event/conversations-of-hope/2026-06-08/
LOCATION:1300 Hilltop Dr.\, Suite 200\, Redding\, 1300 Hilltop Dr. Suite 200\, Redding
END:VEVENT
END:VCALENDAR