BEGIN:VCALENDAR
VERSION:2.0
PRODID:-//Shasta Scout - ECPv6.15.12.2//NONSGML v1.0//EN
CALSCALE:GREGORIAN
METHOD:PUBLISH
X-WR-CALNAME:Shasta Scout
X-ORIGINAL-URL:https://shastascout.org
X-WR-CALDESC:Events for Shasta Scout
REFRESH-INTERVAL;VALUE=DURATION:PT1H
X-Robots-Tag:noindex
X-PUBLISHED-TTL:PT1H
BEGIN:VTIMEZONE
TZID:America/Los_Angeles
BEGIN:DAYLIGHT
TZOFFSETFROM:-0800
TZOFFSETTO:-0700
TZNAME:PDT
DTSTART:20240310T100000
END:DAYLIGHT
BEGIN:STANDARD
TZOFFSETFROM:-0700
TZOFFSETTO:-0800
TZNAME:PST
DTSTART:20241103T090000
END:STANDARD
BEGIN:DAYLIGHT
TZOFFSETFROM:-0800
TZOFFSETTO:-0700
TZNAME:PDT
DTSTART:20250309T100000
END:DAYLIGHT
BEGIN:STANDARD
TZOFFSETFROM:-0700
TZOFFSETTO:-0800
TZNAME:PST
DTSTART:20251102T090000
END:STANDARD
BEGIN:DAYLIGHT
TZOFFSETFROM:-0800
TZOFFSETTO:-0700
TZNAME:PDT
DTSTART:20260308T100000
END:DAYLIGHT
BEGIN:STANDARD
TZOFFSETFROM:-0700
TZOFFSETTO:-0800
TZNAME:PST
DTSTART:20261101T090000
END:STANDARD
END:VTIMEZONE
BEGIN:VEVENT
DTSTART;TZID=America/Los_Angeles:20251101T140000
DTEND;TZID=America/Los_Angeles:20251101T200000
DTSTAMP:20260422T031211
CREATED:20250905T035434Z
LAST-MODIFIED:20250905T035434Z
UID:10002849-1762005600-1762027200@shastascout.org
SUMMARY:Artwalk 2025
DESCRIPTION:
URL:https://shastascout.org/event/artwalk-2025/
LOCATION:Downtown Red Bluff
END:VEVENT
BEGIN:VEVENT
DTSTART;TZID=America/Los_Angeles:20251101T110000
DTEND;TZID=America/Los_Angeles:20251101T180000
DTSTAMP:20260422T031211
CREATED:20251027T033637Z
LAST-MODIFIED:20251027T033637Z
UID:10002912-1761994800-1762020000@shastascout.org
SUMMARY:Santa's Elves Christmas and Craft Fair
DESCRIPTION:
URL:https://shastascout.org/event/santas-elves-christmas-and-craft-fair/
LOCATION:Red Bluff Community Center\, 1500 S. Jackson Street\, Red Bluff\, CA
ATTACH;FMTTYPE=image/jpeg:https://d33easn4ngmbxu.cloudfront.net/wp-content/uploads/2025/10/26203610/559729439_1405316854934925_2345565320698660024_n.jpg
END:VEVENT
BEGIN:VEVENT
DTSTART;TZID=America/Los_Angeles:20251101T110000
DTEND;TZID=America/Los_Angeles:20251101T180000
DTSTAMP:20260422T031211
CREATED:20250905T035007Z
LAST-MODIFIED:20251007T143050Z
UID:10002847-1761994800-1762020000@shastascout.org
SUMMARY:10th Annual Santa's Elves Christmas Craft and Vendor Fair
DESCRIPTION:
URL:https://shastascout.org/event/10th-annual-santas-elves-christmas-craft-and-vendor-fair/
LOCATION:Red Bluff Community Center\, 1500 S. Jackson Street\, Red Bluff\, CA
END:VEVENT
BEGIN:VEVENT
DTSTART;TZID=America/Los_Angeles:20251101T080000
DTEND;TZID=America/Los_Angeles:20251101T120000
DTSTAMP:20260422T031211
CREATED:20250821T034435Z
LAST-MODIFIED:20250821T034435Z
UID:10002528-1761984000-1761998400@shastascout.org
SUMMARY:Saturday "Farmers Market" River Park
DESCRIPTION:
URL:https://shastascout.org/event/saturday-farmers-market-river-park/2025-11-01/
LOCATION:100 Main Street\, 100 Main Street\, Red Bluff\, CA
END:VEVENT
BEGIN:VEVENT
DTSTART;TZID=America/Los_Angeles:20251101T073000
DTEND;TZID=America/Los_Angeles:20251101T120000
DTSTAMP:20260422T031211
CREATED:20250821T031853Z
LAST-MODIFIED:20250821T031853Z
UID:10002194-1761982200-1761998400@shastascout.org
SUMMARY:Redding Certified Farmer's Market
DESCRIPTION:
URL:https://shastascout.org/event/redding-certified-farmers-market/2025-11-01/
LOCATION:Redding City Hall\, 777 Cypress Street\, Redding
END:VEVENT
BEGIN:VEVENT
DTSTART;TZID=America/Los_Angeles:20251031T160000
DTEND;TZID=America/Los_Angeles:20251031T210000
DTSTAMP:20260422T031211
CREATED:20251027T032227Z
LAST-MODIFIED:20251027T032227Z
UID:10002906-1761926400-1761944400@shastascout.org
SUMMARY:Howl-O-Ween Costume Parade
DESCRIPTION:Bring your furry friend in their most pawsome costume on Halloween and join us for a spooktacular evening at the brewery! \n Parade kicks off at 5:30 PM — we’ll strut around the brewery showing off those wag-worthy costumes. Trick or treat at the bar — pups get a special treat when they visit! Best in Show wins a prize! Dress to impress — creativity is highly encouraged!\nWhether your dog is spooky\, silly\, or downright stylish\, this is their time to shine. All well-behaved dogs on leash are welcome.\nCome sip\, cheer\, and celebrate Howl-a-Ween with the whole pack! \nSum of All Smoke will also be on site serving up good eats all evening!\nTag your dog-loving friends and let’s make this a tail-waggin’ good time!
URL:https://shastascout.org/event/howl-o-ween-costume-parade/
LOCATION:Fall River Brewery\, 3957 Eastside Rd\, Redding\, CA
ATTACH;FMTTYPE=image/jpeg:https://d33easn4ngmbxu.cloudfront.net/wp-content/uploads/2025/10/26202153/568544603_1641528637186697_4595849277945907125_n.jpg
END:VEVENT
BEGIN:VEVENT
DTSTART;TZID=America/Los_Angeles:20251031T140000
DTEND;TZID=America/Los_Angeles:20251031T170000
DTSTAMP:20260422T031211
CREATED:20251027T034018Z
LAST-MODIFIED:20251027T034018Z
UID:10002913-1761919200-1761930000@shastascout.org
SUMMARY:Red Bluff Fire Department Mini-Carnival
DESCRIPTION:We are hosting our 3rd annual “Treat Street” Mini-Carnival. Trick or Treat all the Downtown Red Bluff businesses and then swing by to see your Red Bluff Fire Fighters\, Red Bluff Joint Union High School District CTE Fire Students and enjoy some carnival themed games and treats!
URL:https://shastascout.org/event/red-bluff-fire-department-mini-carnival/
LOCATION:Red Bluff Fire Department\, 555 Washington St\, Red Bluff\, CA
ATTACH;FMTTYPE=image/jpeg:https://d33easn4ngmbxu.cloudfront.net/wp-content/uploads/2025/10/26203955/565673085_784049510913110_2789490703730727831_n.jpg
END:VEVENT
BEGIN:VEVENT
DTSTART;TZID=America/Los_Angeles:20251029T173000
DTEND;TZID=America/Los_Angeles:20251029T190000
DTSTAMP:20260422T031211
CREATED:20250707T173953Z
LAST-MODIFIED:20250707T173953Z
UID:10001925-1761759000-1761764400@shastascout.org
SUMMARY:NorCal OUTReach Youth Group
DESCRIPTION:
URL:https://shastascout.org/event/norcal-outreach-youth-group/2025-10-29/
LOCATION:NorCal OUTReach\, 1447 Market Street Suite A\, Redding\, CA
END:VEVENT
BEGIN:VEVENT
DTSTART;TZID=America/Los_Angeles:20251027T130000
DTEND;TZID=America/Los_Angeles:20251027T143000
DTSTAMP:20260422T031211
CREATED:20250123T221146Z
LAST-MODIFIED:20250123T221146Z
UID:10000961-1761570000-1761575400@shastascout.org
SUMMARY:Conversations of Hope
DESCRIPTION:Shasta County Health and Human Services Agency\, in collaboration with Sunrise Mountain Wellness Center\, offers the county’s only peer-led support group for women survivors of domestic abuse and intimate-partner violence. \nNo registration required. \nFor information\, contact Michele Williams at (530) 245-6034 or email mwilliams@shastacounty.gov.
URL:https://shastascout.org/event/conversations-of-hope/2025-10-27/
LOCATION:1300 Hilltop Dr.\, Suite 200\, Redding\, 1300 Hilltop Dr. Suite 200\, Redding
END:VEVENT
BEGIN:VEVENT
DTSTART;TZID=America/Los_Angeles:20251025T190000
DTEND;TZID=America/Los_Angeles:20251025T220000
DTSTAMP:20260422T031211
CREATED:20250507T003612Z
LAST-MODIFIED:20250507T003612Z
UID:10001771-1761418800-1761429600@shastascout.org
SUMMARY:Queerokee
DESCRIPTION:
URL:https://shastascout.org/event/queerokee/2025-10-25/
LOCATION:2042 Market Street\, Redding\, CA\, 2042 Market Street\, Redding\, CA
END:VEVENT
BEGIN:VEVENT
DTSTART;TZID=America/Los_Angeles:20251025T100000
DTEND;TZID=America/Los_Angeles:20251025T120000
DTSTAMP:20260422T031211
CREATED:20250905T041717Z
LAST-MODIFIED:20250905T041717Z
UID:10002865-1761386400-1761393600@shastascout.org
SUMMARY:SEARCH FOR THE SPAWNING SALMON
DESCRIPTION:Join biologist Matt Johnson from the dept. of Fish and Wildlife for a walk along Clear Creek to observe spawning salmon. Learn up to date information about restoration projects designed to help the salmon. Wear polarized sunglasses and walking shoes.  Meet at the Gold Dredge Trailhead on Clear Creek Road about 2 miles west of highway 273\, just west of Sunrise Excavating.
URL:https://shastascout.org/event/search-for-the-spawning-salmon/
LOCATION:Horsetown-Clear Creek Preserve
END:VEVENT
BEGIN:VEVENT
DTSTART;TZID=America/Los_Angeles:20251025T080000
DTEND;TZID=America/Los_Angeles:20251025T120000
DTSTAMP:20260422T031211
CREATED:20250821T034435Z
LAST-MODIFIED:20250821T034435Z
UID:10002527-1761379200-1761393600@shastascout.org
SUMMARY:Saturday "Farmers Market" River Park
DESCRIPTION:
URL:https://shastascout.org/event/saturday-farmers-market-river-park/2025-10-25/
LOCATION:100 Main Street\, 100 Main Street\, Red Bluff\, CA
END:VEVENT
BEGIN:VEVENT
DTSTART;TZID=America/Los_Angeles:20251025T073000
DTEND;TZID=America/Los_Angeles:20251025T120000
DTSTAMP:20260422T031211
CREATED:20250821T031853Z
LAST-MODIFIED:20250821T031853Z
UID:10002193-1761377400-1761393600@shastascout.org
SUMMARY:Redding Certified Farmer's Market
DESCRIPTION:
URL:https://shastascout.org/event/redding-certified-farmers-market/2025-10-25/
LOCATION:Redding City Hall\, 777 Cypress Street\, Redding
END:VEVENT
BEGIN:VEVENT
DTSTART;TZID=America/Los_Angeles:20251022T173000
DTEND;TZID=America/Los_Angeles:20251022T190000
DTSTAMP:20260422T031211
CREATED:20250707T173953Z
LAST-MODIFIED:20250707T173953Z
UID:10001924-1761154200-1761159600@shastascout.org
SUMMARY:NorCal OUTReach Youth Group
DESCRIPTION:
URL:https://shastascout.org/event/norcal-outreach-youth-group/2025-10-22/
LOCATION:NorCal OUTReach\, 1447 Market Street Suite A\, Redding\, CA
END:VEVENT
BEGIN:VEVENT
DTSTART;TZID=America/Los_Angeles:20251021T183000
DTEND;TZID=America/Los_Angeles:20251021T200000
DTSTAMP:20260422T031211
CREATED:20250821T032904Z
LAST-MODIFIED:20250821T032904Z
UID:10002449-1761071400-1761076800@shastascout.org
SUMMARY:NorCal OUTReach Young Adults Youth Group
DESCRIPTION:Youth group for 18-26 year olds.
URL:https://shastascout.org/event/norcal-outreach-young-adults-youth-group/2025-10-21/
LOCATION:NorCal OUTReach\, 1447 Market Street Suite A\, Redding\, CA
END:VEVENT
BEGIN:VEVENT
DTSTART;TZID=America/Los_Angeles:20251020T173000
DTEND;TZID=America/Los_Angeles:20251020T190000
DTSTAMP:20260422T031211
CREATED:20250507T003724Z
LAST-MODIFIED:20250507T003724Z
UID:10001831-1760981400-1760986800@shastascout.org
SUMMARY:Ally Group
DESCRIPTION:
URL:https://shastascout.org/event/ally-group/2025-10-20/
LOCATION:2042 Market Street\, Redding\, CA\, 2042 Market Street\, Redding\, CA
END:VEVENT
BEGIN:VEVENT
DTSTART;TZID=America/Los_Angeles:20251020T130000
DTEND;TZID=America/Los_Angeles:20251020T143000
DTSTAMP:20260422T031211
CREATED:20250123T221146Z
LAST-MODIFIED:20250123T221146Z
UID:10000960-1760965200-1760970600@shastascout.org
SUMMARY:Conversations of Hope
DESCRIPTION:Shasta County Health and Human Services Agency\, in collaboration with Sunrise Mountain Wellness Center\, offers the county’s only peer-led support group for women survivors of domestic abuse and intimate-partner violence. \nNo registration required. \nFor information\, contact Michele Williams at (530) 245-6034 or email mwilliams@shastacounty.gov.
URL:https://shastascout.org/event/conversations-of-hope/2025-10-20/
LOCATION:1300 Hilltop Dr.\, Suite 200\, Redding\, 1300 Hilltop Dr. Suite 200\, Redding
END:VEVENT
BEGIN:VEVENT
DTSTART;TZID=America/Los_Angeles:20251018T150000
DTEND;TZID=America/Los_Angeles:20251018T170000
DTSTAMP:20260422T031211
CREATED:20250328T200231Z
LAST-MODIFIED:20250328T200231Z
UID:10001696-1760799600-1760806800@shastascout.org
SUMMARY:NorCal OUTReach Project Potluck
DESCRIPTION:
URL:https://shastascout.org/event/norcal-outreach-project-potluck/2025-10-18/
LOCATION:2042 Market Street\, Redding\, CA\, 2042 Market Street\, Redding\, CA
END:VEVENT
BEGIN:VEVENT
DTSTART;TZID=America/Los_Angeles:20251018T094500
DTEND;TZID=America/Los_Angeles:20251018T140000
DTSTAMP:20260422T031211
CREATED:20250821T032305Z
LAST-MODIFIED:20250821T032305Z
UID:10002446-1760780700-1760796000@shastascout.org
SUMMARY:2025 NorCal Golden Palooza
DESCRIPTION:Golden retriever meet up with demonstrations\, informational talks\, swimming\, raffle\, silent auction\, NorCal Golden Retrievwr rescue booth and $20 microchipping for your dogs\, snack bar\, Enzo the golden Retriever mascot and the gold rush parade across the sundial bridge! Come and enjoy-Entry is a gently used collar\, leash\, bed or toy for a local rescue. Register at norcalgoldenpalooza.com
URL:https://shastascout.org/event/2025-norcal-golden-palooza/
LOCATION:Civic Center\, 700 Auditorium Dr\, Redding\, CA 96001
END:VEVENT
BEGIN:VEVENT
DTSTART;TZID=America/Los_Angeles:20251018T090000
DTEND;TZID=America/Los_Angeles:20251018T160000
DTSTAMP:20260422T031211
CREATED:20250905T041613Z
LAST-MODIFIED:20250905T041613Z
UID:10002864-1760778000-1760803200@shastascout.org
SUMMARY:RETURN OF THE SALMON FESTIVAL
DESCRIPTION:Join us at the Coleman National Fish Hatchery for a fun filled and educational day. For more information and directions visit http://www.fws.gov/coleman.
URL:https://shastascout.org/event/return-of-the-salmon-festival/
LOCATION:24411 COLEMAN FISH HATCHERY ROAD.\, ANDERSON\, 24411 COLEMAN FISH HATCHERY ROAD\, Anderson\, CA
END:VEVENT
BEGIN:VEVENT
DTSTART;TZID=America/Los_Angeles:20251018T080000
DTEND;TZID=America/Los_Angeles:20251018T120000
DTSTAMP:20260422T031211
CREATED:20250821T034435Z
LAST-MODIFIED:20250821T034435Z
UID:10002526-1760774400-1760788800@shastascout.org
SUMMARY:Saturday "Farmers Market" River Park
DESCRIPTION:
URL:https://shastascout.org/event/saturday-farmers-market-river-park/2025-10-18/
LOCATION:100 Main Street\, 100 Main Street\, Red Bluff\, CA
END:VEVENT
BEGIN:VEVENT
DTSTART;TZID=America/Los_Angeles:20251018T073000
DTEND;TZID=America/Los_Angeles:20251018T120000
DTSTAMP:20260422T031211
CREATED:20250821T031853Z
LAST-MODIFIED:20250821T031853Z
UID:10002192-1760772600-1760788800@shastascout.org
SUMMARY:Redding Certified Farmer's Market
DESCRIPTION:
URL:https://shastascout.org/event/redding-certified-farmers-market/2025-10-18/
LOCATION:Redding City Hall\, 777 Cypress Street\, Redding
END:VEVENT
BEGIN:VEVENT
DTSTART;TZID=America/Los_Angeles:20251016T170000
DTEND;TZID=America/Los_Angeles:20251016T200000
DTSTAMP:20260422T031211
CREATED:20250722T162401Z
LAST-MODIFIED:20250722T162401Z
UID:10002176-1760634000-1760644800@shastascout.org
SUMMARY:NorCal Think Pink Sundial Resource Fair
DESCRIPTION:The Pink Sundial Resource Fair will be back again this year with resource booths\, food trucks\, and local entertainment. We will have our 2025-2026 breast health calendars & bags available\, along with Nor-Cal Think Pink swag available for purchase. There is no cost to enter the event\, and a free shuttle from Mt. Shasta Mall behind JC Penney’s will be available between 4:30pm-8:45pm. We look forward to seeing you at this family friendly event!
URL:https://shastascout.org/event/norcal-think-pink-sundial-resource-fair/
LOCATION:Sundial Bridge\, Redding\, CA
END:VEVENT
BEGIN:VEVENT
DTSTART;TZID=America/Los_Angeles:20251016T170000
DTEND;TZID=America/Los_Angeles:20251016T200000
DTSTAMP:20260422T031211
CREATED:20250529T030105Z
LAST-MODIFIED:20250529T030105Z
UID:10001903-1760634000-1760644800@shastascout.org
SUMMARY:Pink Sundial Resource Fair
DESCRIPTION:
URL:https://shastascout.org/event/pink-sundial-resource-fair/
LOCATION:Turtle Bay\, 844 Sundial Bridge Drive Redding\, CA 96001 United States
END:VEVENT
BEGIN:VEVENT
DTSTART;TZID=America/Los_Angeles:20251016T080000
DTEND;TZID=America/Los_Angeles:20251016T160000
DTSTAMP:20260422T031211
CREATED:20251002T232903Z
LAST-MODIFIED:20251002T232903Z
UID:10002877-1760601600-1760630400@shastascout.org
SUMMARY:Veterans Resource Fair
DESCRIPTION:The Shasta County Veterans Services Office (VSO)\, in partnership with the United Way of Northern California and approximately sixty (60) other local service organizations\, are hosting a Veterans Resource Fair on October 16\, 2025. The VSO encourages all Veterans\, their families\, and anyone else who is interested in what services are available to Veterans in Shasta County to attend this free event\, anytime between 8:00AM and 4:00PM. It will be held in the Lassen Hall at the Shasta District Fair & Event Center
URL:https://shastascout.org/event/veterans-resource-fair/
LOCATION:Shasta District Fair Grounds\, 1890 Briggs St\, Anderson\, CA\, 96007
END:VEVENT
BEGIN:VEVENT
DTSTART;TZID=America/Los_Angeles:20251015T173000
DTEND;TZID=America/Los_Angeles:20251015T190000
DTSTAMP:20260422T031211
CREATED:20250707T173953Z
LAST-MODIFIED:20250707T173953Z
UID:10001923-1760549400-1760554800@shastascout.org
SUMMARY:NorCal OUTReach Youth Group
DESCRIPTION:
URL:https://shastascout.org/event/norcal-outreach-youth-group/2025-10-15/
LOCATION:NorCal OUTReach\, 1447 Market Street Suite A\, Redding\, CA
END:VEVENT
BEGIN:VEVENT
DTSTART;TZID=America/Los_Angeles:20251013T173000
DTEND;TZID=America/Los_Angeles:20251013T193000
DTSTAMP:20260422T031211
CREATED:20251002T232502Z
LAST-MODIFIED:20251002T232502Z
UID:10002876-1760376600-1760383800@shastascout.org
SUMMARY:College Quest 2025 College Fair
DESCRIPTION:College Quest\, a college information night\, will take place on Monday\, October 13\, 2025\, at Shasta College from 5:30 to 7:30 pm in the gymnasium. This FREE community event is open to everyone and is designed so that north state students and their families can explore post high school education and career opportunities.
URL:https://shastascout.org/event/college-quest-2025-college-fair/
LOCATION:Shasta College\, 11555 Old Oregon Trail\, Redding\, CA
END:VEVENT
BEGIN:VEVENT
DTSTART;TZID=America/Los_Angeles:20251013T130000
DTEND;TZID=America/Los_Angeles:20251013T143000
DTSTAMP:20260422T031211
CREATED:20250123T221146Z
LAST-MODIFIED:20250123T221146Z
UID:10000959-1760360400-1760365800@shastascout.org
SUMMARY:Conversations of Hope
DESCRIPTION:Shasta County Health and Human Services Agency\, in collaboration with Sunrise Mountain Wellness Center\, offers the county’s only peer-led support group for women survivors of domestic abuse and intimate-partner violence. \nNo registration required. \nFor information\, contact Michele Williams at (530) 245-6034 or email mwilliams@shastacounty.gov.
URL:https://shastascout.org/event/conversations-of-hope/2025-10-13/
LOCATION:1300 Hilltop Dr.\, Suite 200\, Redding\, 1300 Hilltop Dr. Suite 200\, Redding
END:VEVENT
BEGIN:VEVENT
DTSTART;TZID=America/Los_Angeles:20251012T130000
DTEND;TZID=America/Los_Angeles:20251012T150000
DTSTAMP:20260422T031211
CREATED:20250905T041445Z
LAST-MODIFIED:20250905T041445Z
UID:10002863-1760274000-1760281200@shastascout.org
SUMMARY:ACORNS: A NATIVE AMERICAN STAPLE
DESCRIPTION:Native Wintu herbalist Ted Dawson will discuss the acorn\, from harvest to food items. You’ll be invited to join in grinding acorns with mortar and pestle and Sample acorn dishes. Acorns were a staple food of the Native Americans of California\, but there’s more. Bring the family. Meet at the HCCP parking area at 1 pm
URL:https://shastascout.org/event/acorns-a-native-american-staple/
LOCATION:Horsetown-Clear Creek Preserve
END:VEVENT
BEGIN:VEVENT
DTSTART;TZID=America/Los_Angeles:20251012T110000
DTEND;TZID=America/Los_Angeles:20251012T160000
DTSTAMP:20260422T031211
CREATED:20250905T034709Z
LAST-MODIFIED:20250905T034709Z
UID:10002788-1760266800-1760284800@shastascout.org
SUMMARY:Grange Craft Market
DESCRIPTION:
URL:https://shastascout.org/event/grange-craft-market/2025-10-12/
LOCATION:8085 Airport\, 8085 Airport Road\, Redding\, CA
END:VEVENT
END:VCALENDAR