BEGIN:VCALENDAR
VERSION:2.0
PRODID:-//Shasta Scout - ECPv6.15.12.2//NONSGML v1.0//EN
CALSCALE:GREGORIAN
METHOD:PUBLISH
X-WR-CALNAME:Shasta Scout
X-ORIGINAL-URL:https://shastascout.org
X-WR-CALDESC:Events for Shasta Scout
REFRESH-INTERVAL;VALUE=DURATION:PT1H
X-Robots-Tag:noindex
X-PUBLISHED-TTL:PT1H
BEGIN:VTIMEZONE
TZID:America/Los_Angeles
BEGIN:DAYLIGHT
TZOFFSETFROM:-0800
TZOFFSETTO:-0700
TZNAME:PDT
DTSTART:20250309T100000
END:DAYLIGHT
BEGIN:STANDARD
TZOFFSETFROM:-0700
TZOFFSETTO:-0800
TZNAME:PST
DTSTART:20251102T090000
END:STANDARD
BEGIN:DAYLIGHT
TZOFFSETFROM:-0800
TZOFFSETTO:-0700
TZNAME:PDT
DTSTART:20260308T100000
END:DAYLIGHT
BEGIN:STANDARD
TZOFFSETFROM:-0700
TZOFFSETTO:-0800
TZNAME:PST
DTSTART:20261101T090000
END:STANDARD
BEGIN:DAYLIGHT
TZOFFSETFROM:-0800
TZOFFSETTO:-0700
TZNAME:PDT
DTSTART:20270314T100000
END:DAYLIGHT
BEGIN:STANDARD
TZOFFSETFROM:-0700
TZOFFSETTO:-0800
TZNAME:PST
DTSTART:20271107T090000
END:STANDARD
END:VTIMEZONE
BEGIN:VEVENT
DTSTART;TZID=America/Los_Angeles:20260424T180000
DTEND;TZID=America/Los_Angeles:20260424T190000
DTSTAMP:20260420T213432
CREATED:20260417T172134Z
LAST-MODIFIED:20260417T172134Z
UID:10003025-1777053600-1777057200@shastascout.org
SUMMARY:BUILDING BRIDGES: NEXT GEN Curiosity vs. Judgment Series
DESCRIPTION:
URL:https://shastascout.org/event/building-bridges-next-gen-curiosity-vs-judgment-series/2026-04-24/
LOCATION:Reciproka Cultural Reciprocity and Community Center\, 550 Cypress Ave\, Redding\, CA
ATTACH;FMTTYPE=image/png:https://d33easn4ngmbxu.cloudfront.net/wp-content/uploads/2026/04/17101853/Screenshot-2026-04-17-at-10.18.40-AM.png
END:VEVENT
BEGIN:VEVENT
DTSTART;TZID=America/Los_Angeles:20260501T180000
DTEND;TZID=America/Los_Angeles:20260501T190000
DTSTAMP:20260420T213432
CREATED:20260417T172134Z
LAST-MODIFIED:20260417T172134Z
UID:10003026-1777658400-1777662000@shastascout.org
SUMMARY:BUILDING BRIDGES: NEXT GEN Curiosity vs. Judgment Series
DESCRIPTION:
URL:https://shastascout.org/event/building-bridges-next-gen-curiosity-vs-judgment-series/2026-05-01/
LOCATION:Reciproka Cultural Reciprocity and Community Center\, 550 Cypress Ave\, Redding\, CA
ATTACH;FMTTYPE=image/png:https://d33easn4ngmbxu.cloudfront.net/wp-content/uploads/2026/04/17101853/Screenshot-2026-04-17-at-10.18.40-AM.png
END:VEVENT
BEGIN:VEVENT
DTSTART;TZID=America/Los_Angeles:20260508T180000
DTEND;TZID=America/Los_Angeles:20260508T190000
DTSTAMP:20260420T213432
CREATED:20260417T172134Z
LAST-MODIFIED:20260417T172134Z
UID:10003027-1778263200-1778266800@shastascout.org
SUMMARY:BUILDING BRIDGES: NEXT GEN Curiosity vs. Judgment Series
DESCRIPTION:
URL:https://shastascout.org/event/building-bridges-next-gen-curiosity-vs-judgment-series/2026-05-08/
LOCATION:Reciproka Cultural Reciprocity and Community Center\, 550 Cypress Ave\, Redding\, CA
ATTACH;FMTTYPE=image/png:https://d33easn4ngmbxu.cloudfront.net/wp-content/uploads/2026/04/17101853/Screenshot-2026-04-17-at-10.18.40-AM.png
END:VEVENT
END:VCALENDAR