BEGIN:VCALENDAR
VERSION:2.0
PRODID:-//Shasta Scout - ECPv6.15.12.2//NONSGML v1.0//EN
CALSCALE:GREGORIAN
METHOD:PUBLISH
X-ORIGINAL-URL:https://shastascout.org
X-WR-CALDESC:Events for Shasta Scout
REFRESH-INTERVAL;VALUE=DURATION:PT1H
X-Robots-Tag:noindex
X-PUBLISHED-TTL:PT1H
BEGIN:VTIMEZONE
TZID:America/Los_Angeles
BEGIN:DAYLIGHT
TZOFFSETFROM:-0800
TZOFFSETTO:-0700
TZNAME:PDT
DTSTART:20240310T100000
END:DAYLIGHT
BEGIN:STANDARD
TZOFFSETFROM:-0700
TZOFFSETTO:-0800
TZNAME:PST
DTSTART:20241103T090000
END:STANDARD
BEGIN:DAYLIGHT
TZOFFSETFROM:-0800
TZOFFSETTO:-0700
TZNAME:PDT
DTSTART:20250309T100000
END:DAYLIGHT
BEGIN:STANDARD
TZOFFSETFROM:-0700
TZOFFSETTO:-0800
TZNAME:PST
DTSTART:20251102T090000
END:STANDARD
BEGIN:DAYLIGHT
TZOFFSETFROM:-0800
TZOFFSETTO:-0700
TZNAME:PDT
DTSTART:20260308T100000
END:DAYLIGHT
BEGIN:STANDARD
TZOFFSETFROM:-0700
TZOFFSETTO:-0800
TZNAME:PST
DTSTART:20261101T090000
END:STANDARD
BEGIN:DAYLIGHT
TZOFFSETFROM:-0800
TZOFFSETTO:-0700
TZNAME:PDT
DTSTART:20270314T100000
END:DAYLIGHT
BEGIN:STANDARD
TZOFFSETFROM:-0700
TZOFFSETTO:-0800
TZNAME:PST
DTSTART:20271107T090000
END:STANDARD
END:VTIMEZONE
BEGIN:VEVENT
DTSTART;TZID=America/Los_Angeles:20260208T110000
DTEND;TZID=America/Los_Angeles:20260208T160000
DTSTAMP:20260221T213250
CREATED:20250905T034709Z
LAST-MODIFIED:20250905T034709Z
UID:10002792-1770548400-1770566400@shastascout.org
SUMMARY:Grange Craft Market
DESCRIPTION:
URL:https://shastascout.org/event/grange-craft-market/2026-02-08/
LOCATION:8085 Airport\, 8085 Airport Road\, Redding\, CA
END:VEVENT
BEGIN:VEVENT
DTSTART;TZID=America/Los_Angeles:20260111T110000
DTEND;TZID=America/Los_Angeles:20260111T160000
DTSTAMP:20260221T213250
CREATED:20250905T034709Z
LAST-MODIFIED:20250905T034709Z
UID:10002791-1768129200-1768147200@shastascout.org
SUMMARY:Grange Craft Market
DESCRIPTION:
URL:https://shastascout.org/event/grange-craft-market/2026-01-11/
LOCATION:8085 Airport\, 8085 Airport Road\, Redding\, CA
END:VEVENT
BEGIN:VEVENT
DTSTART;TZID=America/Los_Angeles:20251214T110000
DTEND;TZID=America/Los_Angeles:20251214T160000
DTSTAMP:20260221T213250
CREATED:20250905T034709Z
LAST-MODIFIED:20250905T034709Z
UID:10002790-1765710000-1765728000@shastascout.org
SUMMARY:Grange Craft Market
DESCRIPTION:
URL:https://shastascout.org/event/grange-craft-market/2025-12-14/
LOCATION:8085 Airport\, 8085 Airport Road\, Redding\, CA
END:VEVENT
BEGIN:VEVENT
DTSTART;TZID=America/Los_Angeles:20251109T110000
DTEND;TZID=America/Los_Angeles:20251109T160000
DTSTAMP:20260221T213250
CREATED:20250905T034709Z
LAST-MODIFIED:20250905T034709Z
UID:10002789-1762686000-1762704000@shastascout.org
SUMMARY:Grange Craft Market
DESCRIPTION:
URL:https://shastascout.org/event/grange-craft-market/2025-11-09/
LOCATION:8085 Airport\, 8085 Airport Road\, Redding\, CA
END:VEVENT
BEGIN:VEVENT
DTSTART;TZID=America/Los_Angeles:20251012T110000
DTEND;TZID=America/Los_Angeles:20251012T160000
DTSTAMP:20260221T213250
CREATED:20250905T034709Z
LAST-MODIFIED:20250905T034709Z
UID:10002788-1760266800-1760284800@shastascout.org
SUMMARY:Grange Craft Market
DESCRIPTION:
URL:https://shastascout.org/event/grange-craft-market/2025-10-12/
LOCATION:8085 Airport\, 8085 Airport Road\, Redding\, CA
END:VEVENT
BEGIN:VEVENT
DTSTART;TZID=America/Los_Angeles:20250914T110000
DTEND;TZID=America/Los_Angeles:20250914T160000
DTSTAMP:20260221T213250
CREATED:20250905T034709Z
LAST-MODIFIED:20250905T034709Z
UID:10002787-1757847600-1757865600@shastascout.org
SUMMARY:Grange Craft Market
DESCRIPTION:
URL:https://shastascout.org/event/grange-craft-market/2025-09-14/
LOCATION:8085 Airport\, 8085 Airport Road\, Redding\, CA
END:VEVENT
END:VCALENDAR