BEGIN:VCALENDAR
VERSION:2.0
PRODID:-//Shasta Scout - ECPv6.15.12.2//NONSGML v1.0//EN
CALSCALE:GREGORIAN
METHOD:PUBLISH
X-ORIGINAL-URL:https://shastascout.org
X-WR-CALDESC:Events for Shasta Scout
REFRESH-INTERVAL;VALUE=DURATION:PT1H
X-Robots-Tag:noindex
X-PUBLISHED-TTL:PT1H
BEGIN:VTIMEZONE
TZID:America/Los_Angeles
BEGIN:DAYLIGHT
TZOFFSETFROM:-0800
TZOFFSETTO:-0700
TZNAME:PDT
DTSTART:20250309T100000
END:DAYLIGHT
BEGIN:STANDARD
TZOFFSETFROM:-0700
TZOFFSETTO:-0800
TZNAME:PST
DTSTART:20251102T090000
END:STANDARD
BEGIN:DAYLIGHT
TZOFFSETFROM:-0800
TZOFFSETTO:-0700
TZNAME:PDT
DTSTART:20260308T100000
END:DAYLIGHT
BEGIN:STANDARD
TZOFFSETFROM:-0700
TZOFFSETTO:-0800
TZNAME:PST
DTSTART:20261101T090000
END:STANDARD
BEGIN:DAYLIGHT
TZOFFSETFROM:-0800
TZOFFSETTO:-0700
TZNAME:PDT
DTSTART:20270314T100000
END:DAYLIGHT
BEGIN:STANDARD
TZOFFSETFROM:-0700
TZOFFSETTO:-0800
TZNAME:PST
DTSTART:20271107T090000
END:STANDARD
END:VTIMEZONE
BEGIN:VEVENT
DTSTART;TZID=America/Los_Angeles:20260429T173000
DTEND;TZID=America/Los_Angeles:20260429T190000
DTSTAMP:20260425T212128
CREATED:20250707T173953Z
LAST-MODIFIED:20250707T173953Z
UID:10001951-1777483800-1777489200@shastascout.org
SUMMARY:NorCal OUTReach Youth Group
DESCRIPTION:
URL:https://shastascout.org/event/norcal-outreach-youth-group/2026-04-29/
LOCATION:NorCal OUTReach\, 1447 Market Street Suite A\, Redding\, CA
END:VEVENT
BEGIN:VEVENT
DTSTART;TZID=America/Los_Angeles:20260506T173000
DTEND;TZID=America/Los_Angeles:20260506T190000
DTSTAMP:20260425T212128
CREATED:20250707T173953Z
LAST-MODIFIED:20250707T173953Z
UID:10001952-1778088600-1778094000@shastascout.org
SUMMARY:NorCal OUTReach Youth Group
DESCRIPTION:
URL:https://shastascout.org/event/norcal-outreach-youth-group/2026-05-06/
LOCATION:NorCal OUTReach\, 1447 Market Street Suite A\, Redding\, CA
END:VEVENT
BEGIN:VEVENT
DTSTART;TZID=America/Los_Angeles:20260513T173000
DTEND;TZID=America/Los_Angeles:20260513T190000
DTSTAMP:20260425T212128
CREATED:20250707T173953Z
LAST-MODIFIED:20250707T173953Z
UID:10001953-1778693400-1778698800@shastascout.org
SUMMARY:NorCal OUTReach Youth Group
DESCRIPTION:
URL:https://shastascout.org/event/norcal-outreach-youth-group/2026-05-13/
LOCATION:NorCal OUTReach\, 1447 Market Street Suite A\, Redding\, CA
END:VEVENT
BEGIN:VEVENT
DTSTART;TZID=America/Los_Angeles:20260519T183000
DTEND;TZID=America/Los_Angeles:20260519T200000
DTSTAMP:20260425T212128
CREATED:20250821T032904Z
LAST-MODIFIED:20250821T032904Z
UID:10002456-1779215400-1779220800@shastascout.org
SUMMARY:NorCal OUTReach Young Adults Youth Group
DESCRIPTION:Youth group for 18-26 year olds.
URL:https://shastascout.org/event/norcal-outreach-young-adults-youth-group/2026-05-19/
LOCATION:NorCal OUTReach\, 1447 Market Street Suite A\, Redding\, CA
END:VEVENT
BEGIN:VEVENT
DTSTART;TZID=America/Los_Angeles:20260520T173000
DTEND;TZID=America/Los_Angeles:20260520T190000
DTSTAMP:20260425T212128
CREATED:20250707T173953Z
LAST-MODIFIED:20250707T173953Z
UID:10001954-1779298200-1779303600@shastascout.org
SUMMARY:NorCal OUTReach Youth Group
DESCRIPTION:
URL:https://shastascout.org/event/norcal-outreach-youth-group/2026-05-20/
LOCATION:NorCal OUTReach\, 1447 Market Street Suite A\, Redding\, CA
END:VEVENT
BEGIN:VEVENT
DTSTART;TZID=America/Los_Angeles:20260527T173000
DTEND;TZID=America/Los_Angeles:20260527T190000
DTSTAMP:20260425T212128
CREATED:20250707T173953Z
LAST-MODIFIED:20250707T173953Z
UID:10001955-1779903000-1779908400@shastascout.org
SUMMARY:NorCal OUTReach Youth Group
DESCRIPTION:
URL:https://shastascout.org/event/norcal-outreach-youth-group/2026-05-27/
LOCATION:NorCal OUTReach\, 1447 Market Street Suite A\, Redding\, CA
END:VEVENT
BEGIN:VEVENT
DTSTART;TZID=America/Los_Angeles:20260603T173000
DTEND;TZID=America/Los_Angeles:20260603T190000
DTSTAMP:20260425T212128
CREATED:20250707T173953Z
LAST-MODIFIED:20250707T173953Z
UID:10001956-1780507800-1780513200@shastascout.org
SUMMARY:NorCal OUTReach Youth Group
DESCRIPTION:
URL:https://shastascout.org/event/norcal-outreach-youth-group/2026-06-03/
LOCATION:NorCal OUTReach\, 1447 Market Street Suite A\, Redding\, CA
END:VEVENT
BEGIN:VEVENT
DTSTART;TZID=America/Los_Angeles:20260610T173000
DTEND;TZID=America/Los_Angeles:20260610T190000
DTSTAMP:20260425T212128
CREATED:20250707T173953Z
LAST-MODIFIED:20250707T173953Z
UID:10001957-1781112600-1781118000@shastascout.org
SUMMARY:NorCal OUTReach Youth Group
DESCRIPTION:
URL:https://shastascout.org/event/norcal-outreach-youth-group/2026-06-10/
LOCATION:NorCal OUTReach\, 1447 Market Street Suite A\, Redding\, CA
END:VEVENT
BEGIN:VEVENT
DTSTART;TZID=America/Los_Angeles:20260616T183000
DTEND;TZID=America/Los_Angeles:20260616T200000
DTSTAMP:20260425T212128
CREATED:20250821T032904Z
LAST-MODIFIED:20250821T032904Z
UID:10002457-1781634600-1781640000@shastascout.org
SUMMARY:NorCal OUTReach Young Adults Youth Group
DESCRIPTION:Youth group for 18-26 year olds.
URL:https://shastascout.org/event/norcal-outreach-young-adults-youth-group/2026-06-16/
LOCATION:NorCal OUTReach\, 1447 Market Street Suite A\, Redding\, CA
END:VEVENT
BEGIN:VEVENT
DTSTART;TZID=America/Los_Angeles:20260617T173000
DTEND;TZID=America/Los_Angeles:20260617T190000
DTSTAMP:20260425T212128
CREATED:20250707T173953Z
LAST-MODIFIED:20250707T173953Z
UID:10001958-1781717400-1781722800@shastascout.org
SUMMARY:NorCal OUTReach Youth Group
DESCRIPTION:
URL:https://shastascout.org/event/norcal-outreach-youth-group/2026-06-17/
LOCATION:NorCal OUTReach\, 1447 Market Street Suite A\, Redding\, CA
END:VEVENT
BEGIN:VEVENT
DTSTART;TZID=America/Los_Angeles:20260624T173000
DTEND;TZID=America/Los_Angeles:20260624T190000
DTSTAMP:20260425T212128
CREATED:20250707T173953Z
LAST-MODIFIED:20250707T173953Z
UID:10001959-1782322200-1782327600@shastascout.org
SUMMARY:NorCal OUTReach Youth Group
DESCRIPTION:
URL:https://shastascout.org/event/norcal-outreach-youth-group/2026-06-24/
LOCATION:NorCal OUTReach\, 1447 Market Street Suite A\, Redding\, CA
END:VEVENT
BEGIN:VEVENT
DTSTART;TZID=America/Los_Angeles:20260701T173000
DTEND;TZID=America/Los_Angeles:20260701T190000
DTSTAMP:20260425T212128
CREATED:20250707T173953Z
LAST-MODIFIED:20250707T173953Z
UID:10001960-1782927000-1782932400@shastascout.org
SUMMARY:NorCal OUTReach Youth Group
DESCRIPTION:
URL:https://shastascout.org/event/norcal-outreach-youth-group/2026-07-01/
LOCATION:NorCal OUTReach\, 1447 Market Street Suite A\, Redding\, CA
END:VEVENT
BEGIN:VEVENT
DTSTART;TZID=America/Los_Angeles:20260708T173000
DTEND;TZID=America/Los_Angeles:20260708T190000
DTSTAMP:20260425T212128
CREATED:20250707T173953Z
LAST-MODIFIED:20250707T173953Z
UID:10001961-1783531800-1783537200@shastascout.org
SUMMARY:NorCal OUTReach Youth Group
DESCRIPTION:
URL:https://shastascout.org/event/norcal-outreach-youth-group/2026-07-08/
LOCATION:NorCal OUTReach\, 1447 Market Street Suite A\, Redding\, CA
END:VEVENT
BEGIN:VEVENT
DTSTART;TZID=America/Los_Angeles:20260715T173000
DTEND;TZID=America/Los_Angeles:20260715T190000
DTSTAMP:20260425T212128
CREATED:20250707T173953Z
LAST-MODIFIED:20250707T173953Z
UID:10001962-1784136600-1784142000@shastascout.org
SUMMARY:NorCal OUTReach Youth Group
DESCRIPTION:
URL:https://shastascout.org/event/norcal-outreach-youth-group/2026-07-15/
LOCATION:NorCal OUTReach\, 1447 Market Street Suite A\, Redding\, CA
END:VEVENT
BEGIN:VEVENT
DTSTART;TZID=America/Los_Angeles:20260721T183000
DTEND;TZID=America/Los_Angeles:20260721T200000
DTSTAMP:20260425T212128
CREATED:20250821T032904Z
LAST-MODIFIED:20250821T032904Z
UID:10002458-1784658600-1784664000@shastascout.org
SUMMARY:NorCal OUTReach Young Adults Youth Group
DESCRIPTION:Youth group for 18-26 year olds.
URL:https://shastascout.org/event/norcal-outreach-young-adults-youth-group/2026-07-21/
LOCATION:NorCal OUTReach\, 1447 Market Street Suite A\, Redding\, CA
END:VEVENT
BEGIN:VEVENT
DTSTART;TZID=America/Los_Angeles:20260722T173000
DTEND;TZID=America/Los_Angeles:20260722T190000
DTSTAMP:20260425T212128
CREATED:20250707T173953Z
LAST-MODIFIED:20250707T173953Z
UID:10001963-1784741400-1784746800@shastascout.org
SUMMARY:NorCal OUTReach Youth Group
DESCRIPTION:
URL:https://shastascout.org/event/norcal-outreach-youth-group/2026-07-22/
LOCATION:NorCal OUTReach\, 1447 Market Street Suite A\, Redding\, CA
END:VEVENT
BEGIN:VEVENT
DTSTART;TZID=America/Los_Angeles:20260729T173000
DTEND;TZID=America/Los_Angeles:20260729T190000
DTSTAMP:20260425T212128
CREATED:20250707T173953Z
LAST-MODIFIED:20250707T173953Z
UID:10001964-1785346200-1785351600@shastascout.org
SUMMARY:NorCal OUTReach Youth Group
DESCRIPTION:
URL:https://shastascout.org/event/norcal-outreach-youth-group/2026-07-29/
LOCATION:NorCal OUTReach\, 1447 Market Street Suite A\, Redding\, CA
END:VEVENT
BEGIN:VEVENT
DTSTART;TZID=America/Los_Angeles:20260805T173000
DTEND;TZID=America/Los_Angeles:20260805T190000
DTSTAMP:20260425T212128
CREATED:20250707T173953Z
LAST-MODIFIED:20250707T173953Z
UID:10001965-1785951000-1785956400@shastascout.org
SUMMARY:NorCal OUTReach Youth Group
DESCRIPTION:
URL:https://shastascout.org/event/norcal-outreach-youth-group/2026-08-05/
LOCATION:NorCal OUTReach\, 1447 Market Street Suite A\, Redding\, CA
END:VEVENT
BEGIN:VEVENT
DTSTART;TZID=America/Los_Angeles:20260812T173000
DTEND;TZID=America/Los_Angeles:20260812T190000
DTSTAMP:20260425T212128
CREATED:20250707T173953Z
LAST-MODIFIED:20250707T173953Z
UID:10001966-1786555800-1786561200@shastascout.org
SUMMARY:NorCal OUTReach Youth Group
DESCRIPTION:
URL:https://shastascout.org/event/norcal-outreach-youth-group/2026-08-12/
LOCATION:NorCal OUTReach\, 1447 Market Street Suite A\, Redding\, CA
END:VEVENT
BEGIN:VEVENT
DTSTART;TZID=America/Los_Angeles:20260818T183000
DTEND;TZID=America/Los_Angeles:20260818T200000
DTSTAMP:20260425T212128
CREATED:20250821T032904Z
LAST-MODIFIED:20250821T032904Z
UID:10002459-1787077800-1787083200@shastascout.org
SUMMARY:NorCal OUTReach Young Adults Youth Group
DESCRIPTION:Youth group for 18-26 year olds.
URL:https://shastascout.org/event/norcal-outreach-young-adults-youth-group/2026-08-18/
LOCATION:NorCal OUTReach\, 1447 Market Street Suite A\, Redding\, CA
END:VEVENT
BEGIN:VEVENT
DTSTART;TZID=America/Los_Angeles:20260819T173000
DTEND;TZID=America/Los_Angeles:20260819T190000
DTSTAMP:20260425T212128
CREATED:20250707T173953Z
LAST-MODIFIED:20250707T173953Z
UID:10001967-1787160600-1787166000@shastascout.org
SUMMARY:NorCal OUTReach Youth Group
DESCRIPTION:
URL:https://shastascout.org/event/norcal-outreach-youth-group/2026-08-19/
LOCATION:NorCal OUTReach\, 1447 Market Street Suite A\, Redding\, CA
END:VEVENT
BEGIN:VEVENT
DTSTART;TZID=America/Los_Angeles:20260826T173000
DTEND;TZID=America/Los_Angeles:20260826T190000
DTSTAMP:20260425T212128
CREATED:20250707T173953Z
LAST-MODIFIED:20250707T173953Z
UID:10001968-1787765400-1787770800@shastascout.org
SUMMARY:NorCal OUTReach Youth Group
DESCRIPTION:
URL:https://shastascout.org/event/norcal-outreach-youth-group/2026-08-26/
LOCATION:NorCal OUTReach\, 1447 Market Street Suite A\, Redding\, CA
END:VEVENT
BEGIN:VEVENT
DTSTART;TZID=America/Los_Angeles:20260902T173000
DTEND;TZID=America/Los_Angeles:20260902T190000
DTSTAMP:20260425T212128
CREATED:20250707T173953Z
LAST-MODIFIED:20250707T173953Z
UID:10001969-1788370200-1788375600@shastascout.org
SUMMARY:NorCal OUTReach Youth Group
DESCRIPTION:
URL:https://shastascout.org/event/norcal-outreach-youth-group/2026-09-02/
LOCATION:NorCal OUTReach\, 1447 Market Street Suite A\, Redding\, CA
END:VEVENT
BEGIN:VEVENT
DTSTART;TZID=America/Los_Angeles:20260909T173000
DTEND;TZID=America/Los_Angeles:20260909T190000
DTSTAMP:20260425T212128
CREATED:20250707T173953Z
LAST-MODIFIED:20250707T173953Z
UID:10001970-1788975000-1788980400@shastascout.org
SUMMARY:NorCal OUTReach Youth Group
DESCRIPTION:
URL:https://shastascout.org/event/norcal-outreach-youth-group/2026-09-09/
LOCATION:NorCal OUTReach\, 1447 Market Street Suite A\, Redding\, CA
END:VEVENT
BEGIN:VEVENT
DTSTART;TZID=America/Los_Angeles:20260915T183000
DTEND;TZID=America/Los_Angeles:20260915T200000
DTSTAMP:20260425T212128
CREATED:20250821T032904Z
LAST-MODIFIED:20250821T032904Z
UID:10002460-1789497000-1789502400@shastascout.org
SUMMARY:NorCal OUTReach Young Adults Youth Group
DESCRIPTION:Youth group for 18-26 year olds.
URL:https://shastascout.org/event/norcal-outreach-young-adults-youth-group/2026-09-15/
LOCATION:NorCal OUTReach\, 1447 Market Street Suite A\, Redding\, CA
END:VEVENT
BEGIN:VEVENT
DTSTART;TZID=America/Los_Angeles:20260916T173000
DTEND;TZID=America/Los_Angeles:20260916T190000
DTSTAMP:20260425T212128
CREATED:20250707T173953Z
LAST-MODIFIED:20250707T173953Z
UID:10001971-1789579800-1789585200@shastascout.org
SUMMARY:NorCal OUTReach Youth Group
DESCRIPTION:
URL:https://shastascout.org/event/norcal-outreach-youth-group/2026-09-16/
LOCATION:NorCal OUTReach\, 1447 Market Street Suite A\, Redding\, CA
END:VEVENT
BEGIN:VEVENT
DTSTART;TZID=America/Los_Angeles:20260923T173000
DTEND;TZID=America/Los_Angeles:20260923T190000
DTSTAMP:20260425T212128
CREATED:20250707T173953Z
LAST-MODIFIED:20250707T173953Z
UID:10001972-1790184600-1790190000@shastascout.org
SUMMARY:NorCal OUTReach Youth Group
DESCRIPTION:
URL:https://shastascout.org/event/norcal-outreach-youth-group/2026-09-23/
LOCATION:NorCal OUTReach\, 1447 Market Street Suite A\, Redding\, CA
END:VEVENT
BEGIN:VEVENT
DTSTART;TZID=America/Los_Angeles:20260930T173000
DTEND;TZID=America/Los_Angeles:20260930T190000
DTSTAMP:20260425T212128
CREATED:20250707T173953Z
LAST-MODIFIED:20250707T173953Z
UID:10001973-1790789400-1790794800@shastascout.org
SUMMARY:NorCal OUTReach Youth Group
DESCRIPTION:
URL:https://shastascout.org/event/norcal-outreach-youth-group/2026-09-30/
LOCATION:NorCal OUTReach\, 1447 Market Street Suite A\, Redding\, CA
END:VEVENT
BEGIN:VEVENT
DTSTART;TZID=America/Los_Angeles:20261007T173000
DTEND;TZID=America/Los_Angeles:20261007T190000
DTSTAMP:20260425T212128
CREATED:20250707T173953Z
LAST-MODIFIED:20250707T173953Z
UID:10001974-1791394200-1791399600@shastascout.org
SUMMARY:NorCal OUTReach Youth Group
DESCRIPTION:
URL:https://shastascout.org/event/norcal-outreach-youth-group/2026-10-07/
LOCATION:NorCal OUTReach\, 1447 Market Street Suite A\, Redding\, CA
END:VEVENT
BEGIN:VEVENT
DTSTART;TZID=America/Los_Angeles:20261014T173000
DTEND;TZID=America/Los_Angeles:20261014T190000
DTSTAMP:20260425T212128
CREATED:20250707T173953Z
LAST-MODIFIED:20250707T173953Z
UID:10001975-1791999000-1792004400@shastascout.org
SUMMARY:NorCal OUTReach Youth Group
DESCRIPTION:
URL:https://shastascout.org/event/norcal-outreach-youth-group/2026-10-14/
LOCATION:NorCal OUTReach\, 1447 Market Street Suite A\, Redding\, CA
END:VEVENT
END:VCALENDAR