BEGIN:VCALENDAR
VERSION:2.0
PRODID:-//Shasta Scout - ECPv6.15.12.2//NONSGML v1.0//EN
CALSCALE:GREGORIAN
METHOD:PUBLISH
X-ORIGINAL-URL:https://shastascout.org
X-WR-CALDESC:Events for Shasta Scout
REFRESH-INTERVAL;VALUE=DURATION:PT1H
X-Robots-Tag:noindex
X-PUBLISHED-TTL:PT1H
BEGIN:VTIMEZONE
TZID:America/Los_Angeles
BEGIN:DAYLIGHT
TZOFFSETFROM:-0800
TZOFFSETTO:-0700
TZNAME:PDT
DTSTART:20240310T100000
END:DAYLIGHT
BEGIN:STANDARD
TZOFFSETFROM:-0700
TZOFFSETTO:-0800
TZNAME:PST
DTSTART:20241103T090000
END:STANDARD
BEGIN:DAYLIGHT
TZOFFSETFROM:-0800
TZOFFSETTO:-0700
TZNAME:PDT
DTSTART:20250309T100000
END:DAYLIGHT
BEGIN:STANDARD
TZOFFSETFROM:-0700
TZOFFSETTO:-0800
TZNAME:PST
DTSTART:20251102T090000
END:STANDARD
BEGIN:DAYLIGHT
TZOFFSETFROM:-0800
TZOFFSETTO:-0700
TZNAME:PDT
DTSTART:20260308T100000
END:DAYLIGHT
BEGIN:STANDARD
TZOFFSETFROM:-0700
TZOFFSETTO:-0800
TZNAME:PST
DTSTART:20261101T090000
END:STANDARD
END:VTIMEZONE
BEGIN:VEVENT
DTSTART;TZID=America/Los_Angeles:20251107T130000
DTEND;TZID=America/Los_Angeles:20251107T190000
DTSTAMP:20260421T075202
CREATED:20250905T040108Z
LAST-MODIFIED:20251103T135714Z
UID:10002856-1762520400-1762542000@shastascout.org
SUMMARY:Library Archive Presents: A Week in 1955
DESCRIPTION:
URL:https://shastascout.org/event/library-archive-presents-a-week-in-1955/2025-11-07/
LOCATION:Red Bluff Library\, 545 Diamond Ave\, Red Bluff\, CA
ATTACH;FMTTYPE=image/jpeg:https://d33easn4ngmbxu.cloudfront.net/wp-content/uploads/2025/09/04205912/542756953_809397325081854_344814184044344715_n.jpg
END:VEVENT
BEGIN:VEVENT
DTSTART;TZID=America/Los_Angeles:20251106T130000
DTEND;TZID=America/Los_Angeles:20251106T190000
DTSTAMP:20260421T075202
CREATED:20250905T040108Z
LAST-MODIFIED:20251103T135714Z
UID:10002855-1762434000-1762455600@shastascout.org
SUMMARY:Library Archive Presents: A Week in 1955
DESCRIPTION:
URL:https://shastascout.org/event/library-archive-presents-a-week-in-1955/2025-11-06/
LOCATION:Red Bluff Library\, 545 Diamond Ave\, Red Bluff\, CA
ATTACH;FMTTYPE=image/jpeg:https://d33easn4ngmbxu.cloudfront.net/wp-content/uploads/2025/09/04205912/542756953_809397325081854_344814184044344715_n.jpg
END:VEVENT
BEGIN:VEVENT
DTSTART;TZID=America/Los_Angeles:20251105T130000
DTEND;TZID=America/Los_Angeles:20251105T190000
DTSTAMP:20260421T075202
CREATED:20250905T040108Z
LAST-MODIFIED:20251103T135714Z
UID:10002938-1762347600-1762369200@shastascout.org
SUMMARY:Library Archive Presents: A Week in 1955
DESCRIPTION:
URL:https://shastascout.org/event/library-archive-presents-a-week-in-1955/2025-11-05/
LOCATION:Red Bluff Library\, 545 Diamond Ave\, Red Bluff\, CA
ATTACH;FMTTYPE=image/jpeg:https://d33easn4ngmbxu.cloudfront.net/wp-content/uploads/2025/09/04205912/542756953_809397325081854_344814184044344715_n.jpg
END:VEVENT
BEGIN:VEVENT
DTSTART;TZID=America/Los_Angeles:20251104T130000
DTEND;TZID=America/Los_Angeles:20251104T190000
DTSTAMP:20260421T075202
CREATED:20250905T040108Z
LAST-MODIFIED:20251103T135714Z
UID:10002853-1762261200-1762282800@shastascout.org
SUMMARY:Library Archive Presents: A Week in 1955
DESCRIPTION:
URL:https://shastascout.org/event/library-archive-presents-a-week-in-1955/2025-11-04/
LOCATION:Red Bluff Library\, 545 Diamond Ave\, Red Bluff\, CA
ATTACH;FMTTYPE=image/jpeg:https://d33easn4ngmbxu.cloudfront.net/wp-content/uploads/2025/09/04205912/542756953_809397325081854_344814184044344715_n.jpg
END:VEVENT
BEGIN:VEVENT
DTSTART;TZID=America/Los_Angeles:20251103T130000
DTEND;TZID=America/Los_Angeles:20251103T190000
DTSTAMP:20260421T075203
CREATED:20250905T040108Z
LAST-MODIFIED:20251103T135714Z
UID:10002852-1762174800-1762196400@shastascout.org
SUMMARY:Library Archive Presents: A Week in 1955
DESCRIPTION:
URL:https://shastascout.org/event/library-archive-presents-a-week-in-1955/2025-11-03/
LOCATION:Red Bluff Library\, 545 Diamond Ave\, Red Bluff\, CA
ATTACH;FMTTYPE=image/jpeg:https://d33easn4ngmbxu.cloudfront.net/wp-content/uploads/2025/09/04205912/542756953_809397325081854_344814184044344715_n.jpg
END:VEVENT
BEGIN:VEVENT
DTSTART;TZID=America/Los_Angeles:20251007T130000
DTEND;TZID=America/Los_Angeles:20251007T190000
DTSTAMP:20260421T075203
CREATED:20250905T035829Z
LAST-MODIFIED:20250905T035829Z
UID:10002851-1759842000-1759863600@shastascout.org
SUMMARY:Clue Library Edition
DESCRIPTION:
URL:https://shastascout.org/event/clue-library-edition/
LOCATION:Red Bluff Library\, 545 Diamond Ave\, Red Bluff\, CA
END:VEVENT
BEGIN:VEVENT
DTSTART;TZID=America/Los_Angeles:20250909T160000
DTEND;TZID=America/Los_Angeles:20250909T180000
DTSTAMP:20260421T075203
CREATED:20250821T035331Z
LAST-MODIFIED:20250821T035331Z
UID:10002785-1757433600-1757440800@shastascout.org
SUMMARY:Library Archive Presents: 175 Years of California
DESCRIPTION:
URL:https://shastascout.org/event/library-archive-presents-175-years-of-california/
LOCATION:Red Bluff Library\, 545 Diamond Ave\, Red Bluff\, CA
END:VEVENT
BEGIN:VEVENT
DTSTART;TZID=America/Los_Angeles:20250905T130000
DTEND;TZID=America/Los_Angeles:20250905T180000
DTSTAMP:20260421T075203
CREATED:20250821T034545Z
LAST-MODIFIED:20250821T034545Z
UID:10002779-1757077200-1757095200@shastascout.org
SUMMARY:Book Sale
DESCRIPTION:
URL:https://shastascout.org/event/book-sale/
LOCATION:Red Bluff Library\, 545 Diamond Ave\, Red Bluff\, CA
END:VEVENT
BEGIN:VEVENT
DTSTART;TZID=America/Los_Angeles:20250120T170000
DTEND;TZID=America/Los_Angeles:20250120T183000
DTSTAMP:20260421T075203
CREATED:20241112T215031Z
LAST-MODIFIED:20241112T215031Z
UID:10000063-1737392400-1737397800@shastascout.org
SUMMARY:Science Activity Day
DESCRIPTION:
URL:https://shastascout.org/event/science-activity-day/
LOCATION:Red Bluff Library\, 545 Diamond Ave\, Red Bluff\, CA
END:VEVENT
END:VCALENDAR