BEGIN:VCALENDAR
VERSION:2.0
PRODID:-//Shasta Scout - ECPv6.15.12.2//NONSGML v1.0//EN
CALSCALE:GREGORIAN
METHOD:PUBLISH
X-ORIGINAL-URL:https://shastascout.org
X-WR-CALDESC:Events for Shasta Scout
REFRESH-INTERVAL;VALUE=DURATION:PT1H
X-Robots-Tag:noindex
X-PUBLISHED-TTL:PT1H
BEGIN:VTIMEZONE
TZID:America/Los_Angeles
BEGIN:DAYLIGHT
TZOFFSETFROM:-0800
TZOFFSETTO:-0700
TZNAME:PDT
DTSTART:20240310T100000
END:DAYLIGHT
BEGIN:STANDARD
TZOFFSETFROM:-0700
TZOFFSETTO:-0800
TZNAME:PST
DTSTART:20241103T090000
END:STANDARD
BEGIN:DAYLIGHT
TZOFFSETFROM:-0800
TZOFFSETTO:-0700
TZNAME:PDT
DTSTART:20250309T100000
END:DAYLIGHT
BEGIN:STANDARD
TZOFFSETFROM:-0700
TZOFFSETTO:-0800
TZNAME:PST
DTSTART:20251102T090000
END:STANDARD
BEGIN:DAYLIGHT
TZOFFSETFROM:-0800
TZOFFSETTO:-0700
TZNAME:PDT
DTSTART:20260308T100000
END:DAYLIGHT
BEGIN:STANDARD
TZOFFSETFROM:-0700
TZOFFSETTO:-0800
TZNAME:PST
DTSTART:20261101T090000
END:STANDARD
END:VTIMEZONE
BEGIN:VEVENT
DTSTART;TZID=America/Los_Angeles:20250329T083000
DTEND;TZID=America/Los_Angeles:20250329T143000
DTSTAMP:20260424T175309
CREATED:20250130T181702Z
LAST-MODIFIED:20250130T181702Z
UID:10001186-1743237000-1743258600@shastascout.org
SUMMARY:American Association of University Women - Women in STEM Conference
DESCRIPTION:DO NOT MISS THIS! If you have a junior high aged daughter\, granddaughter or student\, do not miss this event!\nWhat is it like to write code for iPhone Apps and work for companies like Google\, Apple and Facebook? What does it take to be a clinical psychologist\, criminologist\, or to see inside a heart? And perhaps more importantly\, how does one begin to travel the distance from middle school to a dynamic career in science\, technology\, engineering and math (STEM) fields expected to generate higher paying jobs for today’s students?\nThe Women in STEM Conference is an event designed to inform and inspire middle school girls to become the next generation of scientists\, engineers\, mathematicians and computer scientists. The conference is a collaborative effort\, co-sponsored by the American Association of University Women (AAUW) Redding\, CA Branch\, Shasta Robotics and Advanced Manufacturing and the Shasta County Office of Education. Girls in 6th\, 7th and 8th grades select four interactive\, hands-on sessions presented by professional women – designed to engage\, empower and inspire them in STEM careers.\nREGISTRATION IS OPEN! For more information\, downloadable posters and to register go to:\nhttps://aauwredding.org/women-in-stem-2/\nREGISTRATION WILL CLOSE MARCH 14th
URL:https://shastascout.org/event/american-association-of-university-women-women-in-stem-conference/
LOCATION:Shasta High School\, 2500 Eureka Way\, Redding\, CA
END:VEVENT
END:VCALENDAR